BEGIN:VCALENDAR
VERSION:2.0
PRODID:-//Scioto County Public Library - ECPv6.10.0//NONSGML v1.0//EN
CALSCALE:GREGORIAN
METHOD:PUBLISH
X-WR-CALNAME:Scioto County Public Library
X-ORIGINAL-URL:https://www.sciotolibrary.org
X-WR-CALDESC:Events for Scioto County Public Library
REFRESH-INTERVAL;VALUE=DURATION:PT1H
X-Robots-Tag:noindex
X-PUBLISHED-TTL:PT1H
BEGIN:VTIMEZONE
TZID:America/New_York
BEGIN:DAYLIGHT
TZOFFSETFROM:-0500
TZOFFSETTO:-0400
TZNAME:EDT
DTSTART:20260308T070000
END:DAYLIGHT
BEGIN:STANDARD
TZOFFSETFROM:-0400
TZOFFSETTO:-0500
TZNAME:EST
DTSTART:20261101T060000
END:STANDARD
END:VTIMEZONE
BEGIN:VEVENT
DTSTART;TZID=America/New_York:20260421T080000
DTEND;TZID=America/New_York:20260421T170000
DTSTAMP:20260421T042630
CREATED:20251212T185712Z
LAST-MODIFIED:20251212T185712Z
UID:10004141-1776758400-1776790800@www.sciotolibrary.org
SUMMARY:True Crime Club\, Cari Farver
DESCRIPTION:True Crime Club\, Cari Farver case Unfolded. We will be reading the “A Tangled Web: A Cyber stalker\, a Deadly Obsession\, and the Twisting Path to Justice.” We will focus on this case\, give theories\, suspects and coverage. Light refreshments will be provided. Registration is required. Open to all Adults. For questions call the South Webster Library at 740-778-2122.
URL:https://www.sciotolibrary.org/event/true-crime-club-cari-farver
LOCATION:South Webster Library\, 496 Webster Street\, South Webster\, OH\, 45682\, United States
CATEGORIES:Adult Programs
ATTACH;FMTTYPE=image/jpeg:https://www.sciotolibrary.org/v4/wp-content/uploads/2025/12/April.2026.Cari_.Farver.jpg
GEO:38.8188262;-82.7335355
X-APPLE-STRUCTURED-LOCATION;VALUE=URI;X-ADDRESS=South Webster Library 496 Webster Street South Webster OH 45682 United States;X-APPLE-RADIUS=500;X-TITLE=496 Webster Street:geo:-82.7335355,38.8188262
END:VEVENT
BEGIN:VEVENT
DTSTART;TZID=America/New_York:20260421T143000
DTEND;TZID=America/New_York:20260421T160000
DTSTAMP:20260421T042630
CREATED:20260123T165015Z
LAST-MODIFIED:20260123T165015Z
UID:10004241-1776781800-1776787200@www.sciotolibrary.org
SUMMARY:Teen Craft: Paper Rockets
DESCRIPTION:Join us in the meeting room to create your own paper rocket.  Then we will see if we can make them launch! 2:30 – 4:00.
URL:https://www.sciotolibrary.org/event/teen-craft-paper-rockets
LOCATION:Portsmouth Public Library\, 1220 Gallia Street\, Portsmouth\, OH\, 45662\, United States
CATEGORIES:Teen Programs
ATTACH;FMTTYPE=image/png:https://www.sciotolibrary.org/v4/wp-content/uploads/2026/01/Daily-Teen-Program-59.png
GEO:38.7346;-82.9887
X-APPLE-STRUCTURED-LOCATION;VALUE=URI;X-ADDRESS=Portsmouth Public Library 1220 Gallia Street Portsmouth OH 45662 United States;X-APPLE-RADIUS=500;X-TITLE=1220 Gallia Street:geo:-82.9887,38.7346
END:VEVENT
BEGIN:VEVENT
DTSTART;TZID=America/New_York:20260421T160000
DTEND;TZID=America/New_York:20260421T170000
DTSTAMP:20260421T042630
CREATED:20251203T212433Z
LAST-MODIFIED:20251203T212433Z
UID:10004080-1776787200-1776790800@www.sciotolibrary.org
SUMMARY:Q-Tip Flowers
DESCRIPTION:Create your own blooming masterpiece! You will use a Styrofoam ball as your base and decorate it with colorful “flowers” made from Q-Tips dipped in food coloring. Make a cheerful decoration that never wilts! This program will be held at the main library location on Tuesday\, April 21 at 4 pm in the Copley meeting room. Ages teen to adult. Please call 740-354-5304 to register.
URL:https://www.sciotolibrary.org/event/q-tip-flowers
LOCATION:Portsmouth Public Library\, 1220 Gallia Street\, Portsmouth\, OH\, 45662\, United States
CATEGORIES:Adult Programs,Teen Programs
ATTACH;FMTTYPE=image/png:https://www.sciotolibrary.org/v4/wp-content/uploads/2025/12/Q-Tip-Flower.png
GEO:38.7346;-82.9887
X-APPLE-STRUCTURED-LOCATION;VALUE=URI;X-ADDRESS=Portsmouth Public Library 1220 Gallia Street Portsmouth OH 45662 United States;X-APPLE-RADIUS=500;X-TITLE=1220 Gallia Street:geo:-82.9887,38.7346
END:VEVENT
END:VCALENDAR