BEGIN:VCALENDAR
VERSION:2.0
PRODID:-//Scioto County Public Library - ECPv6.10.0//NONSGML v1.0//EN
CALSCALE:GREGORIAN
METHOD:PUBLISH
X-ORIGINAL-URL:https://www.sciotolibrary.org
X-WR-CALDESC:Events for Scioto County Public Library
REFRESH-INTERVAL;VALUE=DURATION:PT1H
X-Robots-Tag:noindex
X-PUBLISHED-TTL:PT1H
BEGIN:VTIMEZONE
TZID:America/New_York
BEGIN:DAYLIGHT
TZOFFSETFROM:-0500
TZOFFSETTO:-0400
TZNAME:EDT
DTSTART:20260308T070000
END:DAYLIGHT
BEGIN:STANDARD
TZOFFSETFROM:-0400
TZOFFSETTO:-0500
TZNAME:EST
DTSTART:20261101T060000
END:STANDARD
END:VTIMEZONE
BEGIN:VEVENT
DTSTART;TZID=America/New_York:20260511T143000
DTEND;TZID=America/New_York:20260511T160000
DTSTAMP:20260422T050347
CREATED:20260421T205300Z
LAST-MODIFIED:20260421T205300Z
UID:10005002-1778509800-1778515200@www.sciotolibrary.org
SUMMARY:Free Day
DESCRIPTION:Stop by the Library to make a craft\, play card or board games or compete with others on a fun computer/VR game. This free program is from 2:30-4:00 in the Meeting room for ages 13-18.
URL:https://www.sciotolibrary.org/event/free-day
LOCATION:Portsmouth Public Library\, 1220 Gallia Street\, Portsmouth\, OH\, 45662\, United States
CATEGORIES:Teen Programs
ATTACH;FMTTYPE=image/png:https://www.sciotolibrary.org/v4/wp-content/uploads/2026/04/Daily-Teen-Program-20.png
GEO:38.7346;-82.9887
X-APPLE-STRUCTURED-LOCATION;VALUE=URI;X-ADDRESS=Portsmouth Public Library 1220 Gallia Street Portsmouth OH 45662 United States;X-APPLE-RADIUS=500;X-TITLE=1220 Gallia Street:geo:-82.9887,38.7346
END:VEVENT
BEGIN:VEVENT
DTSTART;TZID=America/New_York:20260511T180000
DTEND;TZID=America/New_York:20260511T190000
DTSTAMP:20260422T050347
CREATED:20260417T142958Z
LAST-MODIFIED:20260417T142958Z
UID:10004892-1778522400-1778526000@www.sciotolibrary.org
SUMMARY:Suncatcher Craft
DESCRIPTION:Adults will assemble wires and crystals to create a mini-suncatcher! Perfect to place around your car’s rearview mirror.  \nRegistration is required.\n740-456-4412
URL:https://www.sciotolibrary.org/event/suncatcher-craft
LOCATION:New Boston Library\, 3850 Rhodes Avenue\, New Boston\, OH\, 45662\, United States
CATEGORIES:Adult Programs
ATTACH;FMTTYPE=image/jpeg:https://www.sciotolibrary.org/v4/wp-content/uploads/2026/04/Adult-May.jpg
GEO:38.7505635;-82.9384406
X-APPLE-STRUCTURED-LOCATION;VALUE=URI;X-ADDRESS=New Boston Library 3850 Rhodes Avenue New Boston OH 45662 United States;X-APPLE-RADIUS=500;X-TITLE=3850 Rhodes Avenue:geo:-82.9384406,38.7505635
END:VEVENT
BEGIN:VEVENT
DTSTART;TZID=America/New_York:20260511T180000
DTEND;TZID=America/New_York:20260511T190000
DTSTAMP:20260422T050347
CREATED:20260417T152405Z
LAST-MODIFIED:20260417T152443Z
UID:10004905-1778522400-1778526000@www.sciotolibrary.org
SUMMARY:Hello Summer Signs
DESCRIPTION:Adults are welcome to join us at the Lucasville Library on Monday\, May 11th at 6pm for a “Hello Summer” sign craft activity. During this program\, we will making a  popsicle “hello” sign that can be displayed during the summer season! For more information\, please call 740-259-6119.
URL:https://www.sciotolibrary.org/event/hello-summer-signs
LOCATION:Lucasville Library\, 103 Lucasville-Minford Rd\, Lucasville\, OH\, 45648\, United States
CATEGORIES:Adult Programs
ATTACH;FMTTYPE=image/jpeg:https://www.sciotolibrary.org/v4/wp-content/uploads/2026/04/LU-Adult-May-2026-1.jpeg
GEO:38.8764486;-82.9652131
X-APPLE-STRUCTURED-LOCATION;VALUE=URI;X-ADDRESS=Lucasville Library 103 Lucasville-Minford Rd Lucasville OH 45648 United States;X-APPLE-RADIUS=500;X-TITLE=103 Lucasville-Minford Rd:geo:-82.9652131,38.8764486
END:VEVENT
END:VCALENDAR