BEGIN:VCALENDAR
VERSION:2.0
PRODID:-//Scioto County Public Library - ECPv6.10.0//NONSGML v1.0//EN
CALSCALE:GREGORIAN
METHOD:PUBLISH
X-WR-CALNAME:Scioto County Public Library
X-ORIGINAL-URL:https://www.sciotolibrary.org
X-WR-CALDESC:Events for Scioto County Public Library
REFRESH-INTERVAL;VALUE=DURATION:PT1H
X-Robots-Tag:noindex
X-PUBLISHED-TTL:PT1H
BEGIN:VTIMEZONE
TZID:America/New_York
BEGIN:DAYLIGHT
TZOFFSETFROM:-0500
TZOFFSETTO:-0400
TZNAME:EDT
DTSTART:20260308T070000
END:DAYLIGHT
BEGIN:STANDARD
TZOFFSETFROM:-0400
TZOFFSETTO:-0500
TZNAME:EST
DTSTART:20261101T060000
END:STANDARD
END:VTIMEZONE
BEGIN:VEVENT
DTSTART;TZID=America/New_York:20260516T113000
DTEND;TZID=America/New_York:20260516T130000
DTSTAMP:20260422T130347
CREATED:20260421T222232Z
LAST-MODIFIED:20260421T222232Z
UID:10005007-1778931000-1778936400@www.sciotolibrary.org
SUMMARY:Adult Coloring Book Club
DESCRIPTION:Join us for a relaxing Saturday morning coloring!  Supplies will be provided.  Adult Services Main Floor.
URL:https://www.sciotolibrary.org/event/adult-coloring-book-club
LOCATION:Portsmouth Public Library\, 1220 Gallia Street\, Portsmouth\, OH\, 45662\, United States
CATEGORIES:Adult Programs
ATTACH;FMTTYPE=image/png:https://www.sciotolibrary.org/v4/wp-content/uploads/2026/04/coloring-book.png
GEO:38.7346;-82.9887
X-APPLE-STRUCTURED-LOCATION;VALUE=URI;X-ADDRESS=Portsmouth Public Library 1220 Gallia Street Portsmouth OH 45662 United States;X-APPLE-RADIUS=500;X-TITLE=1220 Gallia Street:geo:-82.9887,38.7346
END:VEVENT
END:VCALENDAR