BEGIN:VCALENDAR
VERSION:2.0
PRODID:-//Scioto County Public Library - ECPv6.10.0//NONSGML v1.0//EN
CALSCALE:GREGORIAN
METHOD:PUBLISH
X-WR-CALNAME:Scioto County Public Library
X-ORIGINAL-URL:https://www.sciotolibrary.org
X-WR-CALDESC:Events for Scioto County Public Library
REFRESH-INTERVAL;VALUE=DURATION:PT1H
X-Robots-Tag:noindex
X-PUBLISHED-TTL:PT1H
BEGIN:VTIMEZONE
TZID:America/New_York
BEGIN:DAYLIGHT
TZOFFSETFROM:-0500
TZOFFSETTO:-0400
TZNAME:EDT
DTSTART:20260308T070000
END:DAYLIGHT
BEGIN:STANDARD
TZOFFSETFROM:-0400
TZOFFSETTO:-0500
TZNAME:EST
DTSTART:20261101T060000
END:STANDARD
END:VTIMEZONE
BEGIN:VEVENT
DTSTART;TZID=America/New_York:20260518T163000
DTEND;TZID=America/New_York:20260518T173000
DTSTAMP:20260422T234726
CREATED:20260417T150112Z
LAST-MODIFIED:20260417T150150Z
UID:10004898-1779121800-1779125400@www.sciotolibrary.org
SUMMARY:Teens - Bad Art Program
DESCRIPTION:Teens are welcome to join us at the Lucasville Library on Monday\, May 18th at 4:30 pm for our “bad art” craft activity. We will provide a variety of craft supplies and teens will have the opportunity to have fun intentionally creating “bad” and silly art! For more information\, please call 740-259-6119.
URL:https://www.sciotolibrary.org/event/teens-bad-art-program
LOCATION:Lucasville Library\, 103 Lucasville-Minford Rd\, Lucasville\, OH\, 45648\, United States
CATEGORIES:Teen Programs
ATTACH;FMTTYPE=image/jpeg:https://www.sciotolibrary.org/v4/wp-content/uploads/2026/04/Teens-May-26-Bad-Art-Flyer-1.jpeg
GEO:38.8764486;-82.9652131
X-APPLE-STRUCTURED-LOCATION;VALUE=URI;X-ADDRESS=Lucasville Library 103 Lucasville-Minford Rd Lucasville OH 45648 United States;X-APPLE-RADIUS=500;X-TITLE=103 Lucasville-Minford Rd:geo:-82.9652131,38.8764486
END:VEVENT
BEGIN:VEVENT
DTSTART;TZID=America/New_York:20260518T170000
DTEND;TZID=America/New_York:20260518T190000
DTSTAMP:20260422T234726
CREATED:20260417T143627Z
LAST-MODIFIED:20260417T155705Z
UID:10004894-1779123600-1779130800@www.sciotolibrary.org
SUMMARY:Summer Reading Kickoff
DESCRIPTION:Join us as we dig into reading with an unforgettable celebration!  \nEnjoy yard games\, sidewalk chalk\, bubbles\, and therapy animals from Shawnee Animal Clinic.   \nIf you have any questions\, please call 740-456-4412.
URL:https://www.sciotolibrary.org/event/summer-reading-kickoff
LOCATION:New Boston Library\, 3850 Rhodes Avenue\, New Boston\, OH\, 45662\, United States
ATTACH;FMTTYPE=image/jpeg:https://www.sciotolibrary.org/v4/wp-content/uploads/2026/04/May-SR-Kickoff.jpg
GEO:38.7505635;-82.9384406
X-APPLE-STRUCTURED-LOCATION;VALUE=URI;X-ADDRESS=New Boston Library 3850 Rhodes Avenue New Boston OH 45662 United States;X-APPLE-RADIUS=500;X-TITLE=3850 Rhodes Avenue:geo:-82.9384406,38.7505635
END:VEVENT
BEGIN:VEVENT
DTSTART;TZID=America/New_York:20260518T173000
DTEND;TZID=America/New_York:20260518T190000
DTSTAMP:20260422T234726
CREATED:20260421T220616Z
LAST-MODIFIED:20260421T220616Z
UID:10005005-1779125400-1779130800@www.sciotolibrary.org
SUMMARY:Cookbook Club Presents: Summer Snackin'
DESCRIPTION:Join us to learn how to make fresh\, handmade snacks perfect for all your summertime fun! Ages 18+.  530pm – 7:00pm in the Meeting Room.
URL:https://www.sciotolibrary.org/event/cookbook-club-presents-summer-snackin
LOCATION:Portsmouth Public Library\, 1220 Gallia Street\, Portsmouth\, OH\, 45662\, United States
CATEGORIES:Adult Programs
ATTACH;FMTTYPE=image/png:https://www.sciotolibrary.org/v4/wp-content/uploads/2026/04/Cookbook-Club-Flyers.png
GEO:38.7346;-82.9887
X-APPLE-STRUCTURED-LOCATION;VALUE=URI;X-ADDRESS=Portsmouth Public Library 1220 Gallia Street Portsmouth OH 45662 United States;X-APPLE-RADIUS=500;X-TITLE=1220 Gallia Street:geo:-82.9887,38.7346
END:VEVENT
END:VCALENDAR