BEGIN:VCALENDAR
VERSION:2.0
PRODID:-//Scioto County Public Library - ECPv6.10.0//NONSGML v1.0//EN
CALSCALE:GREGORIAN
METHOD:PUBLISH
X-ORIGINAL-URL:https://www.sciotolibrary.org
X-WR-CALDESC:Events for Scioto County Public Library
REFRESH-INTERVAL;VALUE=DURATION:PT1H
X-Robots-Tag:noindex
X-PUBLISHED-TTL:PT1H
BEGIN:VTIMEZONE
TZID:America/New_York
BEGIN:DAYLIGHT
TZOFFSETFROM:-0500
TZOFFSETTO:-0400
TZNAME:EDT
DTSTART:20260308T070000
END:DAYLIGHT
BEGIN:STANDARD
TZOFFSETFROM:-0400
TZOFFSETTO:-0500
TZNAME:EST
DTSTART:20261101T060000
END:STANDARD
END:VTIMEZONE
BEGIN:VEVENT
DTSTART;TZID=America/New_York:20260519T170000
DTEND;TZID=America/New_York:20260519T190000
DTSTAMP:20260423T023955
CREATED:20260421T150858Z
LAST-MODIFIED:20260421T150858Z
UID:10004981-1779210000-1779217200@www.sciotolibrary.org
SUMMARY:Baby Woodstock
DESCRIPTION:Build your child’s brain with a fun night of sensory experiences and socialization! Enjoy the festive day with music\, artsy crafts\, and fun perfect for babies and toddlers. Games\, toys\, and groovy activities! \nWe will also have real puppies to snuggle as our headliners for this program from Shawnee Animal Clinic! \nFor ages 0 to 4
URL:https://www.sciotolibrary.org/event/baby-woodstock
LOCATION:Portsmouth Public Library\, 1220 Gallia Street\, Portsmouth\, OH\, 45662\, United States
CATEGORIES:Childrens Programs
ATTACH;FMTTYPE=image/png:https://www.sciotolibrary.org/v4/wp-content/uploads/2026/04/Hailey-Program-Flyers-2026.png
GEO:38.7346;-82.9887
X-APPLE-STRUCTURED-LOCATION;VALUE=URI;X-ADDRESS=Portsmouth Public Library 1220 Gallia Street Portsmouth OH 45662 United States;X-APPLE-RADIUS=500;X-TITLE=1220 Gallia Street:geo:-82.9887,38.7346
END:VEVENT
BEGIN:VEVENT
DTSTART;TZID=America/New_York:20260519T170000
DTEND;TZID=America/New_York:20260519T190000
DTSTAMP:20260423T023955
CREATED:20260422T175201Z
LAST-MODIFIED:20260422T175201Z
UID:10005014-1779210000-1779217200@www.sciotolibrary.org
SUMMARY:Ohio Outdoors!
DESCRIPTION:Let’s kickoff summer reading at the\nWheelersburg Library. Bring a blanket and join\nus on the lawn for picnics\, crafts\, games\, and more!
URL:https://www.sciotolibrary.org/event/ohio-outdoors
LOCATION:Wheelersburg Library\, 10745 Old Gallia Pike\, Wheelersburg\, OH\, 45694\, United States
CATEGORIES:Adult Programs,Childrens Programs,Teen Programs,Tween Programs
ATTACH;FMTTYPE=image/png:https://www.sciotolibrary.org/v4/wp-content/uploads/2026/04/Untitled-design.png
GEO:38.7139504;-82.8535508
X-APPLE-STRUCTURED-LOCATION;VALUE=URI;X-ADDRESS=Wheelersburg Library 10745 Old Gallia Pike Wheelersburg OH 45694 United States;X-APPLE-RADIUS=500;X-TITLE=10745 Old Gallia Pike:geo:-82.8535508,38.7139504
END:VEVENT
BEGIN:VEVENT
DTSTART;TZID=America/New_York:20260519T173000
DTEND;TZID=America/New_York:20260519T190000
DTSTAMP:20260423T023955
CREATED:20260421T232958Z
LAST-MODIFIED:20260421T232958Z
UID:10005010-1779211800-1779217200@www.sciotolibrary.org
SUMMARY:Bingo Night
DESCRIPTION:Join us in the Meeting Room at 5:30pm to play an exciting night of Bingo like you’ve never played it before! Open to all ages\, this summer reading program will be fun for family and friends.
URL:https://www.sciotolibrary.org/event/bingo-night
LOCATION:Portsmouth Public Library\, 1220 Gallia Street\, Portsmouth\, OH\, 45662\, United States
CATEGORIES:Adult Programs,Teen Programs
ATTACH;FMTTYPE=image/png:https://www.sciotolibrary.org/v4/wp-content/uploads/2026/04/Yellow-and-Green-Retro-Bingo-Night-Flyer.png
GEO:38.7346;-82.9887
X-APPLE-STRUCTURED-LOCATION;VALUE=URI;X-ADDRESS=Portsmouth Public Library 1220 Gallia Street Portsmouth OH 45662 United States;X-APPLE-RADIUS=500;X-TITLE=1220 Gallia Street:geo:-82.9887,38.7346
END:VEVENT
BEGIN:VEVENT
DTSTART;TZID=America/New_York:20260519T180000
DTEND;TZID=America/New_York:20260519T193000
DTSTAMP:20260423T023955
CREATED:20260422T180903Z
LAST-MODIFIED:20260422T180903Z
UID:10005016-1779213600-1779219000@www.sciotolibrary.org
SUMMARY:Adult True Crime Club
DESCRIPTION:True Crime Club\, Ellen Greenburg case Unfolded. We will be reading the “What Happened to Elle? An American miscarriage of Justice” We will focus on this case\, give theories\, suspects and coverage. Light refreshments will be provided. Registration is required. Open to all Adults. For questions call the South Webster Library at 740-778-2122.
URL:https://www.sciotolibrary.org/event/adult-true-crime-club
LOCATION:South Webster Library\, 496 Webster Street\, South Webster\, OH\, 45682\, United States
CATEGORIES:Adult Programs
ATTACH;FMTTYPE=image/jpeg:https://www.sciotolibrary.org/v4/wp-content/uploads/2026/04/May-2026.jpg
GEO:38.8188262;-82.7335355
X-APPLE-STRUCTURED-LOCATION;VALUE=URI;X-ADDRESS=South Webster Library 496 Webster Street South Webster OH 45682 United States;X-APPLE-RADIUS=500;X-TITLE=496 Webster Street:geo:-82.7335355,38.8188262
END:VEVENT
END:VCALENDAR