BEGIN:VCALENDAR
VERSION:2.0
PRODID:-//Scioto County Public Library - ECPv6.10.0//NONSGML v1.0//EN
CALSCALE:GREGORIAN
METHOD:PUBLISH
X-WR-CALNAME:Scioto County Public Library
X-ORIGINAL-URL:https://www.sciotolibrary.org
X-WR-CALDESC:Events for Scioto County Public Library
REFRESH-INTERVAL;VALUE=DURATION:PT1H
X-Robots-Tag:noindex
X-PUBLISHED-TTL:PT1H
BEGIN:VTIMEZONE
TZID:America/New_York
BEGIN:DAYLIGHT
TZOFFSETFROM:-0500
TZOFFSETTO:-0400
TZNAME:EDT
DTSTART:20260308T070000
END:DAYLIGHT
BEGIN:STANDARD
TZOFFSETFROM:-0400
TZOFFSETTO:-0500
TZNAME:EST
DTSTART:20261101T060000
END:STANDARD
END:VTIMEZONE
BEGIN:VEVENT
DTSTART;TZID=America/New_York:20260521T160000
DTEND;TZID=America/New_York:20260521T170000
DTSTAMP:20260423T053715
CREATED:20260422T180604Z
LAST-MODIFIED:20260422T180604Z
UID:10005015-1779379200-1779382800@www.sciotolibrary.org
SUMMARY:Tween Flowerpot
DESCRIPTION:Tween Flowerpot Paint & Plant at 4:00 PM.  Paint your own terracotta pot and plant marigold seeds.  Take your creation home and watch it bloom!  For more information\, call the South Webster Library at 778-2122.
URL:https://www.sciotolibrary.org/event/tween-flowerpot
LOCATION:South Webster Library\, 496 Webster Street\, South Webster\, OH\, 45682\, United States
CATEGORIES:Tween Programs
ATTACH;FMTTYPE=image/jpeg:https://www.sciotolibrary.org/v4/wp-content/uploads/2026/04/SW-Tweens-May-2026-Flowerpot-Paint-Plant.jpg
GEO:38.8188262;-82.7335355
X-APPLE-STRUCTURED-LOCATION;VALUE=URI;X-ADDRESS=South Webster Library 496 Webster Street South Webster OH 45682 United States;X-APPLE-RADIUS=500;X-TITLE=496 Webster Street:geo:-82.7335355,38.8188262
END:VEVENT
BEGIN:VEVENT
DTSTART;TZID=America/New_York:20260521T163000
DTEND;TZID=America/New_York:20260521T173000
DTSTAMP:20260423T053715
CREATED:20260411T171235Z
LAST-MODIFIED:20260411T171235Z
UID:10004879-1779381000-1779384600@www.sciotolibrary.org
SUMMARY:Cat Craft Fever
DESCRIPTION:Are you a human? Come make some cool crafts inspired by your feline friends! It’s impawssible not to have a fun time!
URL:https://www.sciotolibrary.org/event/cat-craft-fever
LOCATION:Wheelersburg Library\, 10745 Old Gallia Pike\, Wheelersburg\, OH\, 45694\, United States
CATEGORIES:Teen Programs
ATTACH;FMTTYPE=image/png:https://www.sciotolibrary.org/v4/wp-content/uploads/2026/04/Teen-Program-May-2026.png
GEO:38.7139504;-82.8535508
X-APPLE-STRUCTURED-LOCATION;VALUE=URI;X-ADDRESS=Wheelersburg Library 10745 Old Gallia Pike Wheelersburg OH 45694 United States;X-APPLE-RADIUS=500;X-TITLE=10745 Old Gallia Pike:geo:-82.8535508,38.7139504
END:VEVENT
BEGIN:VEVENT
DTSTART;TZID=America/New_York:20260521T173000
DTEND;TZID=America/New_York:20260521T190000
DTSTAMP:20260423T053715
CREATED:20260421T235156Z
LAST-MODIFIED:20260421T235156Z
UID:10005012-1779384600-1779390000@www.sciotolibrary.org
SUMMARY:Sewing Class Series: Machine 101
DESCRIPTION:Join us on the Adult Services Floor for our sewing series.  This class bring your machine and we explore it and it’s uses.  Sewing machines will not be provided for this class.  5:30 – 7:00pm.
URL:https://www.sciotolibrary.org/event/sewing-class-series-machine-101
LOCATION:Portsmouth Public Library\, 1220 Gallia Street\, Portsmouth\, OH\, 45662\, United States
CATEGORIES:Adult Programs
ATTACH;FMTTYPE=image/png:https://www.sciotolibrary.org/v4/wp-content/uploads/2026/04/Flyer-for-Sewing-Class-Series-Spring-2026.png
GEO:38.7346;-82.9887
X-APPLE-STRUCTURED-LOCATION;VALUE=URI;X-ADDRESS=Portsmouth Public Library 1220 Gallia Street Portsmouth OH 45662 United States;X-APPLE-RADIUS=500;X-TITLE=1220 Gallia Street:geo:-82.9887,38.7346
END:VEVENT
END:VCALENDAR