BEGIN:VCALENDAR
VERSION:2.0
PRODID:-//Scioto County Public Library - ECPv6.10.0//NONSGML v1.0//EN
CALSCALE:GREGORIAN
METHOD:PUBLISH
X-WR-CALNAME:Scioto County Public Library
X-ORIGINAL-URL:https://www.sciotolibrary.org
X-WR-CALDESC:Events for Scioto County Public Library
REFRESH-INTERVAL;VALUE=DURATION:PT1H
X-Robots-Tag:noindex
X-PUBLISHED-TTL:PT1H
BEGIN:VTIMEZONE
TZID:America/New_York
BEGIN:DAYLIGHT
TZOFFSETFROM:-0500
TZOFFSETTO:-0400
TZNAME:EDT
DTSTART:20260308T070000
END:DAYLIGHT
BEGIN:STANDARD
TZOFFSETFROM:-0400
TZOFFSETTO:-0500
TZNAME:EST
DTSTART:20261101T060000
END:STANDARD
END:VTIMEZONE
BEGIN:VEVENT
DTSTART;TZID=America/New_York:20260601T080000
DTEND;TZID=America/New_York:20260601T170000
DTSTAMP:20260424T081508
CREATED:20260417T183935Z
LAST-MODIFIED:20260417T183954Z
UID:10004949-1780300800-1780333200@www.sciotolibrary.org
SUMMARY:Romance Book Club
DESCRIPTION:Romance Book Club is a recurring\, adult-only program at the Lucasville Branch. The book club reads titles exclusive to the expansive Romance genre! Each month will focus on a different subgenre of romance (historical\, paranormal\, fantasy\, contemporary\, etc.) and book club members will vote on a title from a choice of three. The book club meets on the first Monday of each month at 5:30 pm. For more information\, call 740-259-6119.
URL:https://www.sciotolibrary.org/event/romance-book-club-2
LOCATION:Lucasville Library\, 103 Lucasville-Minford Rd\, Lucasville\, OH\, 45648\, United States
CATEGORIES:Adult Programs
ATTACH;FMTTYPE=image/jpeg:https://www.sciotolibrary.org/v4/wp-content/uploads/2026/04/Romance-Book-Club-Summer-2026-3.jpg
GEO:38.8764486;-82.9652131
X-APPLE-STRUCTURED-LOCATION;VALUE=URI;X-ADDRESS=Lucasville Library 103 Lucasville-Minford Rd Lucasville OH 45648 United States;X-APPLE-RADIUS=500;X-TITLE=103 Lucasville-Minford Rd:geo:-82.9652131,38.8764486
END:VEVENT
BEGIN:VEVENT
DTSTART;TZID=America/New_York:20260601T080000
DTEND;TZID=America/New_York:20260601T170000
DTSTAMP:20260424T081508
CREATED:20260421T180443Z
LAST-MODIFIED:20260421T180443Z
UID:10004990-1780300800-1780333200@www.sciotolibrary.org
SUMMARY:Help us celebrate America 250
DESCRIPTION:Did you know that Play-Doh and Cheez-its were invented in Ohio? We’re celebrating inventions from Ohio’s history through crafting with pop can tabs and marbles. I Wonder what other inventions we’ll discover?
URL:https://www.sciotolibrary.org/event/help-us-celebrate-america-250
LOCATION:Bookmobile
CATEGORIES:Childrens Programs
ATTACH;FMTTYPE=image/png:https://www.sciotolibrary.org/v4/wp-content/uploads/2026/04/AMERICA-250-JUNE-WK-1.png
ORGANIZER;CN="Bookmobile":MAILTO:bookmobile@yourppl.org
END:VEVENT
BEGIN:VEVENT
DTSTART;TZID=America/New_York:20260601T130000
DTEND;TZID=America/New_York:20260601T140000
DTSTAMP:20260424T081508
CREATED:20260417T160835Z
LAST-MODIFIED:20260417T161426Z
UID:10004916-1780318800-1780322400@www.sciotolibrary.org
SUMMARY:Fossil Frenzy
DESCRIPTION:Unearth your creativity and craft your very own prehistoric fossils.
URL:https://www.sciotolibrary.org/event/fossil-frenzy
LOCATION:New Boston Library\, 3850 Rhodes Avenue\, New Boston\, OH\, 45662\, United States
CATEGORIES:Childrens Programs,Tween Programs
ATTACH;FMTTYPE=image/jpeg:https://www.sciotolibrary.org/v4/wp-content/uploads/2026/04/Fossil-Frenzy-SR.jpg
GEO:38.7505635;-82.9384406
X-APPLE-STRUCTURED-LOCATION;VALUE=URI;X-ADDRESS=New Boston Library 3850 Rhodes Avenue New Boston OH 45662 United States;X-APPLE-RADIUS=500;X-TITLE=3850 Rhodes Avenue:geo:-82.9384406,38.7505635
END:VEVENT
BEGIN:VEVENT
DTSTART;TZID=America/New_York:20260601T143000
DTEND;TZID=America/New_York:20260601T160000
DTSTAMP:20260424T081508
CREATED:20260423T152140Z
LAST-MODIFIED:20260423T152140Z
UID:10005027-1780324200-1780329600@www.sciotolibrary.org
SUMMARY:Dungeons & Dragons: Teen Campaign
DESCRIPTION:Go on epic adventures and battle deadly foes in the 5th edition of this popular role-playing game. All levels of experience and skill are welcome! 2:30pm in the Meeting Room.
URL:https://www.sciotolibrary.org/event/dungeons-dragons-teen-campaign-4
LOCATION:Portsmouth Public Library\, 1220 Gallia Street\, Portsmouth\, OH\, 45662\, United States
CATEGORIES:Teen Programs
ATTACH;FMTTYPE=image/jpeg:https://www.sciotolibrary.org/v4/wp-content/uploads/2026/04/DD-teen-1.jpg
GEO:38.7346;-82.9887
X-APPLE-STRUCTURED-LOCATION;VALUE=URI;X-ADDRESS=Portsmouth Public Library 1220 Gallia Street Portsmouth OH 45662 United States;X-APPLE-RADIUS=500;X-TITLE=1220 Gallia Street:geo:-82.9887,38.7346
END:VEVENT
BEGIN:VEVENT
DTSTART;TZID=America/New_York:20260601T150000
DTEND;TZID=America/New_York:20260601T170000
DTSTAMP:20260424T081508
CREATED:20260417T194401Z
LAST-MODIFIED:20260417T194401Z
UID:10004968-1780326000-1780333200@www.sciotolibrary.org
SUMMARY:Fossil Rock Painting
DESCRIPTION:Young artists and future paleontologists are invited to join us for a fun Fossil Rock Painting activity! Kids will paint fossil-inspired designs like dinosaur bones\, and shells onto rocks that they can take home or become part of our library’s rock garden.
URL:https://www.sciotolibrary.org/event/fossil-rock-painting
LOCATION:Wheelersburg Library\, 10745 Old Gallia Pike\, Wheelersburg\, OH\, 45694\, United States
CATEGORIES:Childrens Programs
ATTACH;FMTTYPE=image/png:https://www.sciotolibrary.org/v4/wp-content/uploads/2026/04/Wh-SR-June.png
GEO:38.7139504;-82.8535508
X-APPLE-STRUCTURED-LOCATION;VALUE=URI;X-ADDRESS=Wheelersburg Library 10745 Old Gallia Pike Wheelersburg OH 45694 United States;X-APPLE-RADIUS=500;X-TITLE=10745 Old Gallia Pike:geo:-82.8535508,38.7139504
END:VEVENT
BEGIN:VEVENT
DTSTART;TZID=America/New_York:20260601T180000
DTEND;TZID=America/New_York:20260601T190000
DTSTAMP:20260424T081508
CREATED:20260417T160728Z
LAST-MODIFIED:20260417T160728Z
UID:10004915-1780336800-1780340400@www.sciotolibrary.org
SUMMARY:Sunset Stories
DESCRIPTION:Children are invited to join us for an evening storytime once a month as the sun goes down. They will learn through songs\, stories\, and play!
URL:https://www.sciotolibrary.org/event/sunset-stories-3
LOCATION:New Boston Library\, 3850 Rhodes Avenue\, New Boston\, OH\, 45662\, United States
CATEGORIES:Childrens Programs
ATTACH;FMTTYPE=image/jpeg:https://www.sciotolibrary.org/v4/wp-content/uploads/2026/04/Sunset-Stories-1.jpg
GEO:38.7505635;-82.9384406
X-APPLE-STRUCTURED-LOCATION;VALUE=URI;X-ADDRESS=New Boston Library 3850 Rhodes Avenue New Boston OH 45662 United States;X-APPLE-RADIUS=500;X-TITLE=3850 Rhodes Avenue:geo:-82.9384406,38.7505635
END:VEVENT
END:VCALENDAR