BEGIN:VCALENDAR
VERSION:2.0
PRODID:-//Scioto County Public Library - ECPv6.10.0//NONSGML v1.0//EN
CALSCALE:GREGORIAN
METHOD:PUBLISH
X-WR-CALNAME:Scioto County Public Library
X-ORIGINAL-URL:https://www.sciotolibrary.org
X-WR-CALDESC:Events for Scioto County Public Library
REFRESH-INTERVAL;VALUE=DURATION:PT1H
X-Robots-Tag:noindex
X-PUBLISHED-TTL:PT1H
BEGIN:VTIMEZONE
TZID:America/New_York
BEGIN:DAYLIGHT
TZOFFSETFROM:-0500
TZOFFSETTO:-0400
TZNAME:EDT
DTSTART:20260308T070000
END:DAYLIGHT
BEGIN:STANDARD
TZOFFSETFROM:-0400
TZOFFSETTO:-0500
TZNAME:EST
DTSTART:20261101T060000
END:STANDARD
END:VTIMEZONE
BEGIN:VEVENT
DTSTART;TZID=America/New_York:20260602T110000
DTEND;TZID=America/New_York:20260602T120000
DTSTAMP:20260424T094034
CREATED:20260417T165128Z
LAST-MODIFIED:20260417T165150Z
UID:10004938-1780398000-1780401600@www.sciotolibrary.org
SUMMARY:Toddler Time
DESCRIPTION:It’s never too early to begin a child’s reading journey! Toddlers are welcome to join us at the Lucasville Library for Toddler Time. Sessions are on Tuesdays at 11am and will run from June 2nd to July 21st. Come and enjoy stories\, songs\, and playtime. For more information\, call 740-259-6119.
URL:https://www.sciotolibrary.org/event/toddler-time
LOCATION:Lucasville Library\, 103 Lucasville-Minford Rd\, Lucasville\, OH\, 45648\, United States
CATEGORIES:Childrens Programs
ATTACH;FMTTYPE=image/jpeg:https://www.sciotolibrary.org/v4/wp-content/uploads/2026/04/Toddler-Time-June-July-26-1-1.jpeg
GEO:38.8764486;-82.9652131
X-APPLE-STRUCTURED-LOCATION;VALUE=URI;X-ADDRESS=Lucasville Library 103 Lucasville-Minford Rd Lucasville OH 45648 United States;X-APPLE-RADIUS=500;X-TITLE=103 Lucasville-Minford Rd:geo:-82.9652131,38.8764486
END:VEVENT
BEGIN:VEVENT
DTSTART;TZID=America/New_York:20260602T160000
DTEND;TZID=America/New_York:20260602T170000
DTSTAMP:20260424T094034
CREATED:20260417T164301Z
LAST-MODIFIED:20260417T164332Z
UID:10004929-1780416000-1780419600@www.sciotolibrary.org
SUMMARY:Family Storytime
DESCRIPTION:Ignite your child’s love for reading and learning by joining us at the Lucasville Library for Family Storytime! Children ages 6 and under will enjoy stories\, songs\, and a craft. Family Storytime takes place every Tuesday at 4pm. Please contact the Lucasville Branch at 740-259-6119 with any questions. We can’t wait to see you there!
URL:https://www.sciotolibrary.org/event/family-storytime-6
LOCATION:Lucasville Library\, 103 Lucasville-Minford Rd\, Lucasville\, OH\, 45648\, United States
CATEGORIES:Childrens Programs
ATTACH;FMTTYPE=image/jpeg:https://www.sciotolibrary.org/v4/wp-content/uploads/2026/04/FST-Summer-26-1-1.jpeg
GEO:38.8764486;-82.9652131
X-APPLE-STRUCTURED-LOCATION;VALUE=URI;X-ADDRESS=Lucasville Library 103 Lucasville-Minford Rd Lucasville OH 45648 United States;X-APPLE-RADIUS=500;X-TITLE=103 Lucasville-Minford Rd:geo:-82.9652131,38.8764486
END:VEVENT
END:VCALENDAR