BEGIN:VCALENDAR
VERSION:2.0
PRODID:-//Scioto County Public Library - ECPv6.10.0//NONSGML v1.0//EN
CALSCALE:GREGORIAN
METHOD:PUBLISH
X-ORIGINAL-URL:https://www.sciotolibrary.org
X-WR-CALDESC:Events for Scioto County Public Library
REFRESH-INTERVAL;VALUE=DURATION:PT1H
X-Robots-Tag:noindex
X-PUBLISHED-TTL:PT1H
BEGIN:VTIMEZONE
TZID:America/New_York
BEGIN:DAYLIGHT
TZOFFSETFROM:-0500
TZOFFSETTO:-0400
TZNAME:EDT
DTSTART:20260308T070000
END:DAYLIGHT
BEGIN:STANDARD
TZOFFSETFROM:-0400
TZOFFSETTO:-0500
TZNAME:EST
DTSTART:20261101T060000
END:STANDARD
END:VTIMEZONE
BEGIN:VEVENT
DTSTART;TZID=America/New_York:20260608T080000
DTEND;TZID=America/New_York:20260613T170000
DTSTAMP:20260424T112034
CREATED:20260421T181112Z
LAST-MODIFIED:20260421T181112Z
UID:10004991-1780905600-1781370000@www.sciotolibrary.org
SUMMARY:Happy Father's Day
DESCRIPTION:COME DECORATE A SPECIAL COOKIE FOR FATHER’S DAY! WE WILL PROVIDE THE COOKIES\, ICING AND SPRINKLES. ALL YOU NEED TO BRING IS LOVE AND IMAGINATION!
URL:https://www.sciotolibrary.org/event/happy-fathers-day
LOCATION:Bookmobile
CATEGORIES:Childrens Programs
ATTACH;FMTTYPE=image/png:https://www.sciotolibrary.org/v4/wp-content/uploads/2026/04/FATHERS-DAY-JUNE-WK-2.png
ORGANIZER;CN="Bookmobile":MAILTO:bookmobile@yourppl.org
END:VEVENT
BEGIN:VEVENT
DTSTART;TZID=America/New_York:20260609T110000
DTEND;TZID=America/New_York:20260609T120000
DTSTAMP:20260424T112034
CREATED:20260417T165243Z
LAST-MODIFIED:20260417T165300Z
UID:10004940-1781002800-1781006400@www.sciotolibrary.org
SUMMARY:Toddler Time
DESCRIPTION:It’s never too early to begin a child’s reading journey! Toddlers are welcome to join us at the Lucasville Library for Toddler Time. Sessions are on Tuesdays at 11am and will run from June 2nd to July 21st. Come and enjoy stories\, songs\, and playtime. For more information\, call 740-259-6119.
URL:https://www.sciotolibrary.org/event/toddler-time-2
LOCATION:Lucasville Library\, 103 Lucasville-Minford Rd\, Lucasville\, OH\, 45648\, United States
CATEGORIES:Childrens Programs
ATTACH;FMTTYPE=image/jpeg:https://www.sciotolibrary.org/v4/wp-content/uploads/2026/04/Toddler-Time-June-July-26-1-3.jpeg
GEO:38.8764486;-82.9652131
X-APPLE-STRUCTURED-LOCATION;VALUE=URI;X-ADDRESS=Lucasville Library 103 Lucasville-Minford Rd Lucasville OH 45648 United States;X-APPLE-RADIUS=500;X-TITLE=103 Lucasville-Minford Rd:geo:-82.9652131,38.8764486
END:VEVENT
BEGIN:VEVENT
DTSTART;TZID=America/New_York:20260609T143000
DTEND;TZID=America/New_York:20260609T160000
DTSTAMP:20260424T112034
CREATED:20260423T174239Z
LAST-MODIFIED:20260423T174239Z
UID:10005039-1781015400-1781020800@www.sciotolibrary.org
SUMMARY:Teen Craft: Dinosaur Terrariums
DESCRIPTION:Join us for a crafty afternoon prehistoric style.  We will be making dinosaur terrariums in the Meeting Room.  Ages 13+
URL:https://www.sciotolibrary.org/event/teen-craft-dinosaur-terrariums
LOCATION:Portsmouth Public Library\, 1220 Gallia Street\, Portsmouth\, OH\, 45662\, United States
CATEGORIES:Teen Programs
ATTACH;FMTTYPE=image/jpeg:https://www.sciotolibrary.org/v4/wp-content/uploads/2026/04/Dinosaur-Terranium-11.jpg
GEO:38.7346;-82.9887
X-APPLE-STRUCTURED-LOCATION;VALUE=URI;X-ADDRESS=Portsmouth Public Library 1220 Gallia Street Portsmouth OH 45662 United States;X-APPLE-RADIUS=500;X-TITLE=1220 Gallia Street:geo:-82.9887,38.7346
END:VEVENT
BEGIN:VEVENT
DTSTART;TZID=America/New_York:20260609T160000
DTEND;TZID=America/New_York:20260609T170000
DTSTAMP:20260424T112034
CREATED:20260417T164422Z
LAST-MODIFIED:20260417T164440Z
UID:10004931-1781020800-1781024400@www.sciotolibrary.org
SUMMARY:Family Storytime
DESCRIPTION:Ignite your child’s love for reading and learning by joining us at the Lucasville Library for Family Storytime! Children ages 6 and under will enjoy stories\, songs\, and a craft. Family Storytime takes place every Tuesday at 4pm. Please contact the Lucasville Branch at 740-259-6119 with any questions. We can’t wait to see you there!
URL:https://www.sciotolibrary.org/event/family-storytime-26
LOCATION:Lucasville Library\, 103 Lucasville-Minford Rd\, Lucasville\, OH\, 45648\, United States
CATEGORIES:Childrens Programs
ATTACH;FMTTYPE=image/jpeg:https://www.sciotolibrary.org/v4/wp-content/uploads/2026/04/FST-Summer-26-1-3.jpeg
GEO:38.8764486;-82.9652131
X-APPLE-STRUCTURED-LOCATION;VALUE=URI;X-ADDRESS=Lucasville Library 103 Lucasville-Minford Rd Lucasville OH 45648 United States;X-APPLE-RADIUS=500;X-TITLE=103 Lucasville-Minford Rd:geo:-82.9652131,38.8764486
END:VEVENT
BEGIN:VEVENT
DTSTART;TZID=America/New_York:20260609T173000
DTEND;TZID=America/New_York:20260609T190000
DTSTAMP:20260424T112034
CREATED:20260417T193815Z
LAST-MODIFIED:20260417T193815Z
UID:10004963-1781026200-1781031600@www.sciotolibrary.org
SUMMARY:America 250 Bingo
DESCRIPTION:Celebrate America’s 250th anniversary with a fun and festive evening of America 250 Bingo! Join us for a patriotic twist on the classic game as we play multiple rounds of bingo for red\, white\, and blue–themed prizes. Adults 18+. Registration Required.
URL:https://www.sciotolibrary.org/event/america-250-bingo
LOCATION:Wheelersburg Library\, 10745 Old Gallia Pike\, Wheelersburg\, OH\, 45694\, United States
CATEGORIES:Adult Programs
ATTACH;FMTTYPE=image/png:https://www.sciotolibrary.org/v4/wp-content/uploads/2026/04/TEEGAN-WH-MAY-AUG-PROGRAMS-1.png
GEO:38.7139504;-82.8535508
X-APPLE-STRUCTURED-LOCATION;VALUE=URI;X-ADDRESS=Wheelersburg Library 10745 Old Gallia Pike Wheelersburg OH 45694 United States;X-APPLE-RADIUS=500;X-TITLE=10745 Old Gallia Pike:geo:-82.8535508,38.7139504
END:VEVENT
BEGIN:VEVENT
DTSTART;TZID=America/New_York:20260609T173000
DTEND;TZID=America/New_York:20260609T190000
DTSTAMP:20260424T112034
CREATED:20260423T171447Z
LAST-MODIFIED:20260423T171447Z
UID:10005036-1781026200-1781031600@www.sciotolibrary.org
SUMMARY:Adult Painting Series: Flip Flops in the Surf
DESCRIPTION:Join us in our monthly painting class to create a summery fun Flip Flops in the Sand.  Registration is required.  All supplies are provided for this free class.
URL:https://www.sciotolibrary.org/event/adult-painting-series-flip-flops-in-the-surf
LOCATION:Portsmouth Public Library\, 1220 Gallia Street\, Portsmouth\, OH\, 45662\, United States
CATEGORIES:Adult Programs
ATTACH;FMTTYPE=image/png:https://www.sciotolibrary.org/v4/wp-content/uploads/2026/04/painting.png
GEO:38.7346;-82.9887
X-APPLE-STRUCTURED-LOCATION;VALUE=URI;X-ADDRESS=Portsmouth Public Library 1220 Gallia Street Portsmouth OH 45662 United States;X-APPLE-RADIUS=500;X-TITLE=1220 Gallia Street:geo:-82.9887,38.7346
END:VEVENT
END:VCALENDAR