BEGIN:VCALENDAR
VERSION:2.0
PRODID:-//Scioto County Public Library - ECPv6.10.0//NONSGML v1.0//EN
CALSCALE:GREGORIAN
METHOD:PUBLISH
X-WR-CALNAME:Scioto County Public Library
X-ORIGINAL-URL:https://www.sciotolibrary.org
X-WR-CALDESC:Events for Scioto County Public Library
REFRESH-INTERVAL;VALUE=DURATION:PT1H
X-Robots-Tag:noindex
X-PUBLISHED-TTL:PT1H
BEGIN:VTIMEZONE
TZID:America/New_York
BEGIN:DAYLIGHT
TZOFFSETFROM:-0500
TZOFFSETTO:-0400
TZNAME:EDT
DTSTART:20260308T070000
END:DAYLIGHT
BEGIN:STANDARD
TZOFFSETFROM:-0400
TZOFFSETTO:-0500
TZNAME:EST
DTSTART:20261101T060000
END:STANDARD
END:VTIMEZONE
BEGIN:VEVENT
DTSTART;TZID=America/New_York:20260615T080000
DTEND;TZID=America/New_York:20260620T170000
DTSTAMP:20260424T112007
CREATED:20260421T181421Z
LAST-MODIFIED:20260421T181421Z
UID:10004992-1781510400-1781974800@www.sciotolibrary.org
SUMMARY:Dinosaur Bookmark
DESCRIPTION:What dinosaur would you like to see every time you opened up your favorite book?\nbring your imagination and make your own bookmark!
URL:https://www.sciotolibrary.org/event/dinosaur-bookmark
LOCATION:Bookmobile
CATEGORIES:Childrens Programs
ATTACH;FMTTYPE=image/png:https://www.sciotolibrary.org/v4/wp-content/uploads/2026/04/DINO-BOOKMARK-JUNE-WK-3.png
ORGANIZER;CN="Bookmobile":MAILTO:bookmobile@yourppl.org
END:VEVENT
BEGIN:VEVENT
DTSTART;TZID=America/New_York:20260615T143000
DTEND;TZID=America/New_York:20260615T160000
DTSTAMP:20260424T112007
CREATED:20260423T152231Z
LAST-MODIFIED:20260423T152231Z
UID:10005028-1781533800-1781539200@www.sciotolibrary.org
SUMMARY:Dungeons & Dragons: Teen Campaign
DESCRIPTION:Go on epic adventures and battle deadly foes in the 5th edition of this popular role-playing game. All levels of experience and skill are welcome! 2:30pm in the Meeting Room.
URL:https://www.sciotolibrary.org/event/dungeons-dragons-teen-campaign-5
LOCATION:Portsmouth Public Library\, 1220 Gallia Street\, Portsmouth\, OH\, 45662\, United States
CATEGORIES:Teen Programs
ATTACH;FMTTYPE=image/jpeg:https://www.sciotolibrary.org/v4/wp-content/uploads/2026/04/dd-1.jpg
GEO:38.7346;-82.9887
X-APPLE-STRUCTURED-LOCATION;VALUE=URI;X-ADDRESS=Portsmouth Public Library 1220 Gallia Street Portsmouth OH 45662 United States;X-APPLE-RADIUS=500;X-TITLE=1220 Gallia Street:geo:-82.9887,38.7346
END:VEVENT
BEGIN:VEVENT
DTSTART;TZID=America/New_York:20260615T150000
DTEND;TZID=America/New_York:20260615T170000
DTSTAMP:20260424T112007
CREATED:20260417T194757Z
LAST-MODIFIED:20260417T194757Z
UID:10004969-1781535600-1781542800@www.sciotolibrary.org
SUMMARY:Dinosaur Handprint Program
DESCRIPTION:Kids will use their own handprints to create a colorful dinosaur masterpiece. By adding eyes\, spikes\, tails\, and other fun details\, each child will transform their handprint into a one-of-a-kind dino to take home.
URL:https://www.sciotolibrary.org/event/dinosaur-handprint-program
LOCATION:Wheelersburg Library\, 10745 Old Gallia Pike\, Wheelersburg\, OH\, 45694\, United States
CATEGORIES:Childrens Programs
ATTACH;FMTTYPE=image/png:https://www.sciotolibrary.org/v4/wp-content/uploads/2026/04/Wh-SR-June-15.png
GEO:38.7139504;-82.8535508
X-APPLE-STRUCTURED-LOCATION;VALUE=URI;X-ADDRESS=Wheelersburg Library 10745 Old Gallia Pike Wheelersburg OH 45694 United States;X-APPLE-RADIUS=500;X-TITLE=10745 Old Gallia Pike:geo:-82.8535508,38.7139504
END:VEVENT
BEGIN:VEVENT
DTSTART;TZID=America/New_York:20260615T173000
DTEND;TZID=America/New_York:20260615T190000
DTSTAMP:20260424T112007
CREATED:20260423T160156Z
LAST-MODIFIED:20260423T160712Z
UID:10005034-1781544600-1781550000@www.sciotolibrary.org
SUMMARY:Cookbook Club Presents: Cooking Basics
DESCRIPTION:Join us at The Kitchen Collective to learn hands on basics with Chef Julia Biggs and taste what you create. We will be making 5-way Cincinnati Chili.  Registration required.
URL:https://www.sciotolibrary.org/event/cookbook-club-presents-cooking-basics-2
LOCATION:OH
CATEGORIES:Adult Programs
ATTACH;FMTTYPE=image/png:https://www.sciotolibrary.org/v4/wp-content/uploads/2026/04/CB-Club.png
END:VEVENT
BEGIN:VEVENT
DTSTART;TZID=America/New_York:20260615T180000
DTEND;TZID=America/New_York:20260615T190000
DTSTAMP:20260424T112007
CREATED:20260417T161157Z
LAST-MODIFIED:20260417T161157Z
UID:10004918-1781546400-1781550000@www.sciotolibrary.org
SUMMARY:Paint by Number
DESCRIPTION:Adults will match paint colors to corresponding numbers on canvases to create a masterpiece!  \nRegistration is required to participate in this program. Please call 740-456-4412 to register.
URL:https://www.sciotolibrary.org/event/paint-by-number
LOCATION:New Boston Library\, 3850 Rhodes Avenue\, New Boston\, OH\, 45662\, United States
CATEGORIES:Adult Programs
ATTACH;FMTTYPE=image/jpeg:https://www.sciotolibrary.org/v4/wp-content/uploads/2026/04/Adult-June.jpg
GEO:38.7505635;-82.9384406
X-APPLE-STRUCTURED-LOCATION;VALUE=URI;X-ADDRESS=New Boston Library 3850 Rhodes Avenue New Boston OH 45662 United States;X-APPLE-RADIUS=500;X-TITLE=3850 Rhodes Avenue:geo:-82.9384406,38.7505635
END:VEVENT
END:VCALENDAR