BEGIN:VCALENDAR
VERSION:2.0
PRODID:-//Scioto County Public Library - ECPv6.10.0//NONSGML v1.0//EN
CALSCALE:GREGORIAN
METHOD:PUBLISH
X-ORIGINAL-URL:https://www.sciotolibrary.org
X-WR-CALDESC:Events for Scioto County Public Library
REFRESH-INTERVAL;VALUE=DURATION:PT1H
X-Robots-Tag:noindex
X-PUBLISHED-TTL:PT1H
BEGIN:VTIMEZONE
TZID:America/New_York
BEGIN:DAYLIGHT
TZOFFSETFROM:-0500
TZOFFSETTO:-0400
TZNAME:EDT
DTSTART:20260308T070000
END:DAYLIGHT
BEGIN:STANDARD
TZOFFSETFROM:-0400
TZOFFSETTO:-0500
TZNAME:EST
DTSTART:20261101T060000
END:STANDARD
END:VTIMEZONE
BEGIN:VEVENT
DTSTART;TZID=America/New_York:20260622T080000
DTEND;TZID=America/New_York:20260627T170000
DTSTAMP:20260424T112035
CREATED:20260421T181703Z
LAST-MODIFIED:20260421T181703Z
UID:10004993-1782115200-1782579600@www.sciotolibrary.org
SUMMARY:Dino Detective
DESCRIPTION:Have you ever wondered what it would be like to be a dinosaur detective? Help us determine what makes a dinosaur a carnivore\, herbivore or omnivore! Bring your thinking cap and lets have some fun!
URL:https://www.sciotolibrary.org/event/dino-detective
LOCATION:Bookmobile
CATEGORIES:Childrens Programs
ATTACH;FMTTYPE=image/png:https://www.sciotolibrary.org/v4/wp-content/uploads/2026/04/DINO-DETECTIVES-JUNE-WK-4.png
ORGANIZER;CN="Bookmobile":MAILTO:bookmobile@yourppl.org
END:VEVENT
BEGIN:VEVENT
DTSTART;TZID=America/New_York:20260625T140000
DTEND;TZID=America/New_York:20260625T150000
DTSTAMP:20260424T112035
CREATED:20260417T161953Z
LAST-MODIFIED:20260417T161953Z
UID:10004921-1782396000-1782399600@www.sciotolibrary.org
SUMMARY:Spill the Ink
DESCRIPTION:You’re invited to write your own epic story in ink. This will be a fun\, laid-back evening where you’ll dig deep and unearth your unique story. Grab a pen\, and let’s write!
URL:https://www.sciotolibrary.org/event/spill-the-ink
LOCATION:New Boston Library\, 3850 Rhodes Avenue\, New Boston\, OH\, 45662\, United States
CATEGORIES:Teen Programs
ATTACH;FMTTYPE=image/jpeg:https://www.sciotolibrary.org/v4/wp-content/uploads/2026/04/Teen-June.jpg
GEO:38.7505635;-82.9384406
X-APPLE-STRUCTURED-LOCATION;VALUE=URI;X-ADDRESS=New Boston Library 3850 Rhodes Avenue New Boston OH 45662 United States;X-APPLE-RADIUS=500;X-TITLE=3850 Rhodes Avenue:geo:-82.9384406,38.7505635
END:VEVENT
BEGIN:VEVENT
DTSTART;TZID=America/New_York:20260625T143000
DTEND;TZID=America/New_York:20260625T160000
DTSTAMP:20260424T112035
CREATED:20260421T205003Z
LAST-MODIFIED:20260421T205003Z
UID:10004999-1782397800-1782403200@www.sciotolibrary.org
SUMMARY:Anime Trivia
DESCRIPTION:Talk about your favorite series\, make a craft\, win a snack/drink/prizes\, a volume of manga and more. You never know what we have in store! This FREE program runs from 2:30-4:00 in the Meeting Room.
URL:https://www.sciotolibrary.org/event/anime-trivia-2
LOCATION:Portsmouth Public Library\, 1220 Gallia Street\, Portsmouth\, OH\, 45662\, United States
CATEGORIES:Teen Programs
ATTACH;FMTTYPE=image/png:https://www.sciotolibrary.org/v4/wp-content/uploads/2026/04/Daily-Teen-Program-17.png
GEO:38.7346;-82.9887
X-APPLE-STRUCTURED-LOCATION;VALUE=URI;X-ADDRESS=Portsmouth Public Library 1220 Gallia Street Portsmouth OH 45662 United States;X-APPLE-RADIUS=500;X-TITLE=1220 Gallia Street:geo:-82.9887,38.7346
END:VEVENT
END:VCALENDAR