BEGIN:VCALENDAR
VERSION:2.0
PRODID:-//Scioto County Public Library - ECPv6.10.0//NONSGML v1.0//EN
CALSCALE:GREGORIAN
METHOD:PUBLISH
X-ORIGINAL-URL:https://www.sciotolibrary.org
X-WR-CALDESC:Events for Scioto County Public Library
REFRESH-INTERVAL;VALUE=DURATION:PT1H
X-Robots-Tag:noindex
X-PUBLISHED-TTL:PT1H
BEGIN:VTIMEZONE
TZID:America/New_York
BEGIN:DAYLIGHT
TZOFFSETFROM:-0500
TZOFFSETTO:-0400
TZNAME:EDT
DTSTART:20260308T070000
END:DAYLIGHT
BEGIN:STANDARD
TZOFFSETFROM:-0400
TZOFFSETTO:-0500
TZNAME:EST
DTSTART:20261101T060000
END:STANDARD
END:VTIMEZONE
BEGIN:VEVENT
DTSTART;TZID=America/New_York:20260706T080000
DTEND;TZID=America/New_York:20260711T170000
DTSTAMP:20260424T141451
CREATED:20260421T182353Z
LAST-MODIFIED:20260421T182353Z
UID:10004995-1783324800-1783789200@www.sciotolibrary.org
SUMMARY:Join us for a Pizza Craft
DESCRIPTION:Using your creative skills\, you’ll get to make your very own pizza that will never go bad. We’ll provide the construction paper\, cardboard and string\, you bring your imagination!
URL:https://www.sciotolibrary.org/event/join-us-for-a-pizza-craft
LOCATION:Bookmobile
CATEGORIES:Childrens Programs
ATTACH;FMTTYPE=image/png:https://www.sciotolibrary.org/v4/wp-content/uploads/2026/04/PIZZA-CRAFT-JULY-WK2.png
ORGANIZER;CN="Bookmobile":MAILTO:bookmobile@yourppl.org
END:VEVENT
BEGIN:VEVENT
DTSTART;TZID=America/New_York:20260707T110000
DTEND;TZID=America/New_York:20260707T120000
DTSTAMP:20260424T141451
CREATED:20260417T192604Z
LAST-MODIFIED:20260417T192632Z
UID:10004956-1783422000-1783425600@www.sciotolibrary.org
SUMMARY:Toddler Time
DESCRIPTION:It’s never too early to begin a child’s reading journey! Toddlers are welcome to join us at the Lucasville Library for Toddler Time. Sessions are on Tuesdays at 11am and will run from June 2nd to July 21st. Come and enjoy stories\, songs\, and playtime. For more information\, call 740-259-6119.
URL:https://www.sciotolibrary.org/event/toddler-time-6
LOCATION:Lucasville Library\, 103 Lucasville-Minford Rd\, Lucasville\, OH\, 45648\, United States
CATEGORIES:Childrens Programs
ATTACH;FMTTYPE=image/jpeg:https://www.sciotolibrary.org/v4/wp-content/uploads/2026/04/Toddler-Time-June-July-26-1-9.jpeg
GEO:38.8764486;-82.9652131
X-APPLE-STRUCTURED-LOCATION;VALUE=URI;X-ADDRESS=Lucasville Library 103 Lucasville-Minford Rd Lucasville OH 45648 United States;X-APPLE-RADIUS=500;X-TITLE=103 Lucasville-Minford Rd:geo:-82.9652131,38.8764486
END:VEVENT
BEGIN:VEVENT
DTSTART;TZID=America/New_York:20260707T160000
DTEND;TZID=America/New_York:20260707T170000
DTSTAMP:20260424T141451
CREATED:20260417T192208Z
LAST-MODIFIED:20260417T192233Z
UID:10004953-1783440000-1783443600@www.sciotolibrary.org
SUMMARY:Family Storytime
DESCRIPTION:Ignite your child’s love for reading and learning by joining us at the Lucasville Library for Family Storytime! Children ages 6 and under will enjoy stories\, songs\, and a craft. Family Storytime takes place every Tuesday at 4pm. Please contact the Lucasville Branch at 740-259-6119 with any questions. We can’t wait to see you there!
URL:https://www.sciotolibrary.org/event/family-storytime-30
LOCATION:Lucasville Library\, 103 Lucasville-Minford Rd\, Lucasville\, OH\, 45648\, United States
CATEGORIES:Childrens Programs
ATTACH;FMTTYPE=image/jpeg:https://www.sciotolibrary.org/v4/wp-content/uploads/2026/04/FST-Summer-26-1-11.jpeg
GEO:38.8764486;-82.9652131
X-APPLE-STRUCTURED-LOCATION;VALUE=URI;X-ADDRESS=Lucasville Library 103 Lucasville-Minford Rd Lucasville OH 45648 United States;X-APPLE-RADIUS=500;X-TITLE=103 Lucasville-Minford Rd:geo:-82.9652131,38.8764486
END:VEVENT
BEGIN:VEVENT
DTSTART;TZID=America/New_York:20260707T173000
DTEND;TZID=America/New_York:20260707T190000
DTSTAMP:20260424T141451
CREATED:20260417T194053Z
LAST-MODIFIED:20260417T194053Z
UID:10004965-1783445400-1783450800@www.sciotolibrary.org
SUMMARY:Summer Canvas Painting
DESCRIPTION:Welcome the season with our Summer Canvas Painting program for adults! In this relaxing program \, participants will create their own bright and cheerful summer-themed painting on canvas. Adults 18+. Registration Required.
URL:https://www.sciotolibrary.org/event/summer-canvas-painting
LOCATION:Wheelersburg Library\, 10745 Old Gallia Pike\, Wheelersburg\, OH\, 45694\, United States
CATEGORIES:Adult Programs
ATTACH;FMTTYPE=image/png:https://www.sciotolibrary.org/v4/wp-content/uploads/2026/04/Wh-July-Adult.png
GEO:38.7139504;-82.8535508
X-APPLE-STRUCTURED-LOCATION;VALUE=URI;X-ADDRESS=Wheelersburg Library 10745 Old Gallia Pike Wheelersburg OH 45694 United States;X-APPLE-RADIUS=500;X-TITLE=10745 Old Gallia Pike:geo:-82.8535508,38.7139504
END:VEVENT
END:VCALENDAR