BEGIN:VCALENDAR
VERSION:2.0
PRODID:-//Scioto County Public Library - ECPv6.10.0//NONSGML v1.0//EN
CALSCALE:GREGORIAN
METHOD:PUBLISH
X-ORIGINAL-URL:https://www.sciotolibrary.org
X-WR-CALDESC:Events for Scioto County Public Library
REFRESH-INTERVAL;VALUE=DURATION:PT1H
X-Robots-Tag:noindex
X-PUBLISHED-TTL:PT1H
BEGIN:VTIMEZONE
TZID:America/New_York
BEGIN:DAYLIGHT
TZOFFSETFROM:-0500
TZOFFSETTO:-0400
TZNAME:EDT
DTSTART:20260308T070000
END:DAYLIGHT
BEGIN:STANDARD
TZOFFSETFROM:-0400
TZOFFSETTO:-0500
TZNAME:EST
DTSTART:20261101T060000
END:STANDARD
END:VTIMEZONE
BEGIN:VEVENT
DTSTART;TZID=America/New_York:20260706T080000
DTEND;TZID=America/New_York:20260711T170000
DTSTAMP:20260424T141451
CREATED:20260421T182353Z
LAST-MODIFIED:20260421T182353Z
UID:10004995-1783324800-1783789200@www.sciotolibrary.org
SUMMARY:Join us for a Pizza Craft
DESCRIPTION:Using your creative skills\, you’ll get to make your very own pizza that will never go bad. We’ll provide the construction paper\, cardboard and string\, you bring your imagination!
URL:https://www.sciotolibrary.org/event/join-us-for-a-pizza-craft
LOCATION:Bookmobile
CATEGORIES:Childrens Programs
ATTACH;FMTTYPE=image/png:https://www.sciotolibrary.org/v4/wp-content/uploads/2026/04/PIZZA-CRAFT-JULY-WK2.png
ORGANIZER;CN="Bookmobile":MAILTO:bookmobile@yourppl.org
END:VEVENT
BEGIN:VEVENT
DTSTART;TZID=America/New_York:20260710T163000
DTEND;TZID=America/New_York:20260710T173000
DTSTAMP:20260424T141451
CREATED:20260417T160357Z
LAST-MODIFIED:20260417T160357Z
UID:10004912-1783701000-1783704600@www.sciotolibrary.org
SUMMARY:Family Storytime
DESCRIPTION:Develop your child’s love of reading by joining us at the New Boston Library for our Family Story Times! Children will have fun learning through stories and developing fine motor skills through creative play.
URL:https://www.sciotolibrary.org/event/family-storytime-5/2026-07-10
LOCATION:New Boston Library\, 3850 Rhodes Avenue\, New Boston\, OH\, 45662\, United States
CATEGORIES:Childrens Programs
ATTACH;FMTTYPE=image/jpeg:https://www.sciotolibrary.org/v4/wp-content/uploads/2026/04/Family-Storytimes-2.jpg
GEO:38.7505635;-82.9384406
X-APPLE-STRUCTURED-LOCATION;VALUE=URI;X-ADDRESS=New Boston Library 3850 Rhodes Avenue New Boston OH 45662 United States;X-APPLE-RADIUS=500;X-TITLE=3850 Rhodes Avenue:geo:-82.9384406,38.7505635
END:VEVENT
BEGIN:VEVENT
DTSTART;TZID=America/New_York:20260710T163000
DTEND;TZID=America/New_York:20260710T173000
DTSTAMP:20260424T141451
CREATED:20260417T193221Z
LAST-MODIFIED:20260417T193237Z
UID:10004960-1783701000-1783704600@www.sciotolibrary.org
SUMMARY:Tweens - Dinosaur Sun Catchers
DESCRIPTION:Tweens are invited to the Lucasville Library to craft a dinosaur sun catcher! Choose from 8 different dino-types and make it your own\, then enjoy how your new creation looks in the summer sun. This program will take place on Friday\, July 10th at 4:30 PM. For more information\, call 740-259-6119.
URL:https://www.sciotolibrary.org/event/tweens-dinosaur-sun-catchers
LOCATION:Lucasville Library\, 103 Lucasville-Minford Rd\, Lucasville\, OH\, 45648\, United States
CATEGORIES:Childrens Programs
ATTACH;FMTTYPE=image/jpeg:https://www.sciotolibrary.org/v4/wp-content/uploads/2026/04/July-Tween-26-Program-1-1.jpeg
GEO:38.8764486;-82.9652131
X-APPLE-STRUCTURED-LOCATION;VALUE=URI;X-ADDRESS=Lucasville Library 103 Lucasville-Minford Rd Lucasville OH 45648 United States;X-APPLE-RADIUS=500;X-TITLE=103 Lucasville-Minford Rd:geo:-82.9652131,38.8764486
END:VEVENT
END:VCALENDAR