BEGIN:VCALENDAR
VERSION:2.0
PRODID:-//Scioto County Public Library - ECPv6.10.0//NONSGML v1.0//EN
CALSCALE:GREGORIAN
METHOD:PUBLISH
X-WR-CALNAME:Scioto County Public Library
X-ORIGINAL-URL:https://www.sciotolibrary.org
X-WR-CALDESC:Events for Scioto County Public Library
REFRESH-INTERVAL;VALUE=DURATION:PT1H
X-Robots-Tag:noindex
X-PUBLISHED-TTL:PT1H
BEGIN:VTIMEZONE
TZID:America/New_York
BEGIN:DAYLIGHT
TZOFFSETFROM:-0500
TZOFFSETTO:-0400
TZNAME:EDT
DTSTART:20260308T070000
END:DAYLIGHT
BEGIN:STANDARD
TZOFFSETFROM:-0400
TZOFFSETTO:-0500
TZNAME:EST
DTSTART:20261101T060000
END:STANDARD
END:VTIMEZONE
BEGIN:VEVENT
DTSTART;TZID=America/New_York:20260713T080000
DTEND;TZID=America/New_York:20260718T170000
DTSTAMP:20260424T141432
CREATED:20260421T182639Z
LAST-MODIFIED:20260421T182639Z
UID:10004996-1783929600-1784394000@www.sciotolibrary.org
SUMMARY:Paint your own dinosaur
DESCRIPTION:LET’S SEE HOW MUCH IMAGINATION WE CAN USE AND PAINT SOME DINOSAURS!\nWE WILL PROVIDE THE DINO CUTOUTS & PAINT.  \nMAYBE WE WILL DISCOVER A NEW DINOSAUR…
URL:https://www.sciotolibrary.org/event/paint-your-own-dinosaur
LOCATION:Bookmobile
CATEGORIES:Childrens Programs
ATTACH;FMTTYPE=image/png:https://www.sciotolibrary.org/v4/wp-content/uploads/2026/04/PAINT-YOUR-OWN-DINO-JULY-WK-3.png
ORGANIZER;CN="Bookmobile":MAILTO:bookmobile@yourppl.org
END:VEVENT
BEGIN:VEVENT
DTSTART;TZID=America/New_York:20260713T143000
DTEND;TZID=America/New_York:20260713T160000
DTSTAMP:20260424T141432
CREATED:20260423T152419Z
LAST-MODIFIED:20260423T152419Z
UID:10005030-1783953000-1783958400@www.sciotolibrary.org
SUMMARY:Dungeons & Dragons: Teen Campaign
DESCRIPTION:Go on epic adventures and battle deadly foes in the 5th edition of this popular role-playing game. All levels of experience and skill are welcome! 2:30pm in the Meeting Room.
URL:https://www.sciotolibrary.org/event/dungeons-dragons-teen-campaign-7
LOCATION:Portsmouth Public Library\, 1220 Gallia Street\, Portsmouth\, OH\, 45662\, United States
CATEGORIES:Teen Programs
ATTACH;FMTTYPE=image/jpeg:https://www.sciotolibrary.org/v4/wp-content/uploads/2026/04/DD3-2.jpg
GEO:38.7346;-82.9887
X-APPLE-STRUCTURED-LOCATION;VALUE=URI;X-ADDRESS=Portsmouth Public Library 1220 Gallia Street Portsmouth OH 45662 United States;X-APPLE-RADIUS=500;X-TITLE=1220 Gallia Street:geo:-82.9887,38.7346
END:VEVENT
BEGIN:VEVENT
DTSTART;TZID=America/New_York:20260713T173000
DTEND;TZID=America/New_York:20260713T193000
DTSTAMP:20260424T141432
CREATED:20260407T173505Z
LAST-MODIFIED:20260423T205137Z
UID:10004869-1783963800-1783971000@www.sciotolibrary.org
SUMMARY:Dungeons & Dragons: One Shot
DESCRIPTION:Go on epic adventures and battle deadly foes in the 5th edition of this popular role-playing game. All levels of experience and skill are welcome! Join the fun from 5:30pm – 7:30pm in the Meeting Room. Ages 18+.
URL:https://www.sciotolibrary.org/event/dungeons-dragons-3
LOCATION:Portsmouth Public Library\, 1220 Gallia Street\, Portsmouth\, OH\, 45662\, United States
CATEGORIES:Adult Programs
ATTACH;FMTTYPE=image/jpeg:https://www.sciotolibrary.org/v4/wp-content/uploads/2026/04/DD-2-1.jpg
GEO:38.7346;-82.9887
X-APPLE-STRUCTURED-LOCATION;VALUE=URI;X-ADDRESS=Portsmouth Public Library 1220 Gallia Street Portsmouth OH 45662 United States;X-APPLE-RADIUS=500;X-TITLE=1220 Gallia Street:geo:-82.9887,38.7346
END:VEVENT
BEGIN:VEVENT
DTSTART;TZID=America/New_York:20260713T180000
DTEND;TZID=America/New_York:20260713T190000
DTSTAMP:20260424T141432
CREATED:20260417T194324Z
LAST-MODIFIED:20260417T194354Z
UID:10004967-1783965600-1783969200@www.sciotolibrary.org
SUMMARY:Multimedia Art
DESCRIPTION:The Lucasville Library will be having a Multimedia Art craft program for adults on Monday\, July 13th at 6pm. We will be making a 3D multimedia art piece featuring watercolor and collage. For more information\, please call 740-259-6119.
URL:https://www.sciotolibrary.org/event/multimedia-art
LOCATION:Lucasville Library\, 103 Lucasville-Minford Rd\, Lucasville\, OH\, 45648\, United States
CATEGORIES:Adult Programs
ATTACH;FMTTYPE=image/jpeg:https://www.sciotolibrary.org/v4/wp-content/uploads/2026/04/LU-Adult-July-2026-1.jpeg
GEO:38.8764486;-82.9652131
X-APPLE-STRUCTURED-LOCATION;VALUE=URI;X-ADDRESS=Lucasville Library 103 Lucasville-Minford Rd Lucasville OH 45648 United States;X-APPLE-RADIUS=500;X-TITLE=103 Lucasville-Minford Rd:geo:-82.9652131,38.8764486
END:VEVENT
END:VCALENDAR