BEGIN:VCALENDAR
VERSION:2.0
PRODID:-//Scioto County Public Library - ECPv6.10.0//NONSGML v1.0//EN
CALSCALE:GREGORIAN
METHOD:PUBLISH
X-ORIGINAL-URL:https://www.sciotolibrary.org
X-WR-CALDESC:Events for Scioto County Public Library
REFRESH-INTERVAL;VALUE=DURATION:PT1H
X-Robots-Tag:noindex
X-PUBLISHED-TTL:PT1H
BEGIN:VTIMEZONE
TZID:America/New_York
BEGIN:DAYLIGHT
TZOFFSETFROM:-0500
TZOFFSETTO:-0400
TZNAME:EDT
DTSTART:20260308T070000
END:DAYLIGHT
BEGIN:STANDARD
TZOFFSETFROM:-0400
TZOFFSETTO:-0500
TZNAME:EST
DTSTART:20261101T060000
END:STANDARD
END:VTIMEZONE
BEGIN:VEVENT
DTSTART;TZID=America/New_York:20260720T080000
DTEND;TZID=America/New_York:20260725T170000
DTSTAMP:20260424T141452
CREATED:20260421T183039Z
LAST-MODIFIED:20260421T183039Z
UID:10004997-1784534400-1784998800@www.sciotolibrary.org
SUMMARY:Build your own Dinosaur Terrarium
DESCRIPTION:USING YOUR CREATIVE IMAGINATION\, YOU WILL BE ABLE TO CONSTRUCT YOUR VERY OWN DINOSAUR TERRARIUM!
URL:https://www.sciotolibrary.org/event/build-your-own-dinosaur-terrarium
LOCATION:Bookmobile
CATEGORIES:Childrens Programs
ATTACH;FMTTYPE=image/png:https://www.sciotolibrary.org/v4/wp-content/uploads/2026/04/DINO-TERRERIUM-JULY-WK-4.png
ORGANIZER;CN="Bookmobile":MAILTO:bookmobile@yourppl.org
END:VEVENT
BEGIN:VEVENT
DTSTART;TZID=America/New_York:20260721T110000
DTEND;TZID=America/New_York:20260721T120000
DTSTAMP:20260424T141452
CREATED:20260417T192827Z
LAST-MODIFIED:20260417T192851Z
UID:10004958-1784631600-1784635200@www.sciotolibrary.org
SUMMARY:Toddler Time
DESCRIPTION:It’s never too early to begin a child’s reading journey! Toddlers are welcome to join us at the Lucasville Library for Toddler Time. Sessions are on Tuesdays at 11am and will run from June 2nd to July 21st. Come and enjoy stories\, songs\, and playtime. For more information\, call 740-259-6119.
URL:https://www.sciotolibrary.org/event/toddler-time-8
LOCATION:Lucasville Library\, 103 Lucasville-Minford Rd\, Lucasville\, OH\, 45648\, United States
CATEGORIES:Childrens Programs
ATTACH;FMTTYPE=image/jpeg:https://www.sciotolibrary.org/v4/wp-content/uploads/2026/04/Toddler-Time-June-July-26-1-13.jpeg
GEO:38.8764486;-82.9652131
X-APPLE-STRUCTURED-LOCATION;VALUE=URI;X-ADDRESS=Lucasville Library 103 Lucasville-Minford Rd Lucasville OH 45648 United States;X-APPLE-RADIUS=500;X-TITLE=103 Lucasville-Minford Rd:geo:-82.9652131,38.8764486
END:VEVENT
BEGIN:VEVENT
DTSTART;TZID=America/New_York:20260721T143000
DTEND;TZID=America/New_York:20260721T160000
DTSTAMP:20260424T141452
CREATED:20260421T205059Z
LAST-MODIFIED:20260421T205059Z
UID:10005000-1784644200-1784649600@www.sciotolibrary.org
SUMMARY:Anime Trivia
DESCRIPTION:Talk about your favorite series\, make a craft\, win a snack/drink/prizes\, a volume of manga and more. You never know what we have in store! This FREE program runs from 2:30-4:00 in the Meeting Room.
URL:https://www.sciotolibrary.org/event/anime-trivia-3
LOCATION:Portsmouth Public Library\, 1220 Gallia Street\, Portsmouth\, OH\, 45662\, United States
CATEGORIES:Teen Programs
ATTACH;FMTTYPE=image/png:https://www.sciotolibrary.org/v4/wp-content/uploads/2026/04/Daily-Teen-Program-18.png
GEO:38.7346;-82.9887
X-APPLE-STRUCTURED-LOCATION;VALUE=URI;X-ADDRESS=Portsmouth Public Library 1220 Gallia Street Portsmouth OH 45662 United States;X-APPLE-RADIUS=500;X-TITLE=1220 Gallia Street:geo:-82.9887,38.7346
END:VEVENT
BEGIN:VEVENT
DTSTART;TZID=America/New_York:20260721T160000
DTEND;TZID=America/New_York:20260721T170000
DTSTAMP:20260424T141452
CREATED:20260414T193604Z
LAST-MODIFIED:20260414T193604Z
UID:10004887-1784649600-1784653200@www.sciotolibrary.org
SUMMARY:Button Bouquet
DESCRIPTION:Create a cute bouquet of flowers using buttons and salt shakers. It is guaranteed that these “flowers” will never wilt! This will take place at the main library location on Tuesday\, July 21st at 4 pm. This is an adult only program. Please call 740-354-5304 to register.
URL:https://www.sciotolibrary.org/event/button-bouquet
LOCATION:Portsmouth Public Library\, 1220 Gallia Street\, Portsmouth\, OH\, 45662\, United States
CATEGORIES:Adult Programs
ATTACH;FMTTYPE=image/png:https://www.sciotolibrary.org/v4/wp-content/uploads/2026/04/Salt-Shaker-Button-Bouquet.png
GEO:38.7346;-82.9887
X-APPLE-STRUCTURED-LOCATION;VALUE=URI;X-ADDRESS=Portsmouth Public Library 1220 Gallia Street Portsmouth OH 45662 United States;X-APPLE-RADIUS=500;X-TITLE=1220 Gallia Street:geo:-82.9887,38.7346
END:VEVENT
BEGIN:VEVENT
DTSTART;TZID=America/New_York:20260721T160000
DTEND;TZID=America/New_York:20260721T170000
DTSTAMP:20260424T141452
CREATED:20260417T192416Z
LAST-MODIFIED:20260417T192438Z
UID:10004955-1784649600-1784653200@www.sciotolibrary.org
SUMMARY:Family Storytime
DESCRIPTION:Ignite your child’s love for reading and learning by joining us at the Lucasville Library for Family Storytime! Children ages 6 and under will enjoy stories\, songs\, and a craft. Family Storytime takes place every Tuesday at 4pm. Please contact the Lucasville Branch at 740-259-6119 with any questions. We can’t wait to see you there!
URL:https://www.sciotolibrary.org/event/family-storytime-32
LOCATION:Lucasville Library\, 103 Lucasville-Minford Rd\, Lucasville\, OH\, 45648\, United States
CATEGORIES:Childrens Programs
ATTACH;FMTTYPE=image/jpeg:https://www.sciotolibrary.org/v4/wp-content/uploads/2026/04/FST-Summer-26-1-15.jpeg
GEO:38.8764486;-82.9652131
X-APPLE-STRUCTURED-LOCATION;VALUE=URI;X-ADDRESS=Lucasville Library 103 Lucasville-Minford Rd Lucasville OH 45648 United States;X-APPLE-RADIUS=500;X-TITLE=103 Lucasville-Minford Rd:geo:-82.9652131,38.8764486
END:VEVENT
BEGIN:VEVENT
DTSTART;TZID=America/New_York:20260721T173000
DTEND;TZID=America/New_York:20260721T183000
DTSTAMP:20260424T141452
CREATED:20260421T173915Z
LAST-MODIFIED:20260421T173915Z
UID:10004988-1784655000-1784658600@www.sciotolibrary.org
SUMMARY:America Star Standees
DESCRIPTION:Red\, White\, Blue + You! Join us while we paint fun wooden star standees to celebrate America 250!
URL:https://www.sciotolibrary.org/event/america-star-standees
LOCATION:Wheelersburg Library\, 10745 Old Gallia Pike\, Wheelersburg\, OH\, 45694\, United States
CATEGORIES:Tween Programs
ATTACH;FMTTYPE=image/png:https://www.sciotolibrary.org/v4/wp-content/uploads/2026/04/July-Teen-Program-2026.png
GEO:38.7139504;-82.8535508
X-APPLE-STRUCTURED-LOCATION;VALUE=URI;X-ADDRESS=Wheelersburg Library 10745 Old Gallia Pike Wheelersburg OH 45694 United States;X-APPLE-RADIUS=500;X-TITLE=10745 Old Gallia Pike:geo:-82.8535508,38.7139504
END:VEVENT
END:VCALENDAR