BEGIN:VCALENDAR
VERSION:2.0
PRODID:-//Scioto County Public Library - ECPv6.10.0//NONSGML v1.0//EN
CALSCALE:GREGORIAN
METHOD:PUBLISH
X-ORIGINAL-URL:https://www.sciotolibrary.org
X-WR-CALDESC:Events for Scioto County Public Library
REFRESH-INTERVAL;VALUE=DURATION:PT1H
X-Robots-Tag:noindex
X-PUBLISHED-TTL:PT1H
BEGIN:VTIMEZONE
TZID:America/New_York
BEGIN:DAYLIGHT
TZOFFSETFROM:-0500
TZOFFSETTO:-0400
TZNAME:EDT
DTSTART:20260308T070000
END:DAYLIGHT
BEGIN:STANDARD
TZOFFSETFROM:-0400
TZOFFSETTO:-0500
TZNAME:EST
DTSTART:20261101T060000
END:STANDARD
END:VTIMEZONE
BEGIN:VEVENT
DTSTART;TZID=America/New_York:20260807T163000
DTEND;TZID=America/New_York:20260807T173000
DTSTAMP:20260424T193446
CREATED:20260420T232241Z
LAST-MODIFIED:20260420T232313Z
UID:10004978-1786120200-1786123800@www.sciotolibrary.org
SUMMARY:Paint Like an Elephant
DESCRIPTION:Children are invited to join us at the Lucasville Library on Friday\, August 7th\, 2026 at 4:30pm to paint just like an elephant does! With a sock on their hand to simulate an elephant trunk\, they will grab a brush and paint whatever they would like onto a canvas. For more information\, call 740-259-6119.
URL:https://www.sciotolibrary.org/event/paint-like-an-elephant-2
LOCATION:Lucasville Library\, 103 Lucasville-Minford Rd\, Lucasville\, OH\, 45648\, United States
CATEGORIES:Childrens Programs
ATTACH;FMTTYPE=image/jpeg:https://www.sciotolibrary.org/v4/wp-content/uploads/2026/04/Kids-August-26-1.jpeg
GEO:38.8764486;-82.9652131
X-APPLE-STRUCTURED-LOCATION;VALUE=URI;X-ADDRESS=Lucasville Library 103 Lucasville-Minford Rd Lucasville OH 45648 United States;X-APPLE-RADIUS=500;X-TITLE=103 Lucasville-Minford Rd:geo:-82.9652131,38.8764486
END:VEVENT
END:VCALENDAR