BEGIN:VCALENDAR
VERSION:2.0
PRODID:-//Scioto County Public Library - ECPv6.10.0//NONSGML v1.0//EN
CALSCALE:GREGORIAN
METHOD:PUBLISH
X-ORIGINAL-URL:https://www.sciotolibrary.org
X-WR-CALDESC:Events for Scioto County Public Library
REFRESH-INTERVAL;VALUE=DURATION:PT1H
X-Robots-Tag:noindex
X-PUBLISHED-TTL:PT1H
BEGIN:VTIMEZONE
TZID:America/New_York
BEGIN:DAYLIGHT
TZOFFSETFROM:-0500
TZOFFSETTO:-0400
TZNAME:EDT
DTSTART:20260308T070000
END:DAYLIGHT
BEGIN:STANDARD
TZOFFSETFROM:-0400
TZOFFSETTO:-0500
TZNAME:EST
DTSTART:20261101T060000
END:STANDARD
END:VTIMEZONE
BEGIN:VEVENT
DTSTART;TZID=America/New_York:20260826T143000
DTEND;TZID=America/New_York:20260826T160000
DTSTAMP:20260424T193446
CREATED:20260407T164823Z
LAST-MODIFIED:20260407T164823Z
UID:10004852-1787754600-1787760000@www.sciotolibrary.org
SUMMARY:Computer\, Switch and VR Gaming
DESCRIPTION:Come play games with friends on our gaming laptops\, Nintendo Switch or try out one of our Oculus Quest systems. You can even bring your own system to play. This free program is from 2:30-4:00 in the Meeting room for ages 13-18.
URL:https://www.sciotolibrary.org/event/computer-switch-and-vr-gaming-31
LOCATION:Portsmouth Public Library\, 1220 Gallia Street\, Portsmouth\, OH\, 45662\, United States
CATEGORIES:Teen Programs
ATTACH;FMTTYPE=image/png:https://www.sciotolibrary.org/v4/wp-content/uploads/2026/04/Daily-Teen-Program-6.png
GEO:38.7346;-82.9887
X-APPLE-STRUCTURED-LOCATION;VALUE=URI;X-ADDRESS=Portsmouth Public Library 1220 Gallia Street Portsmouth OH 45662 United States;X-APPLE-RADIUS=500;X-TITLE=1220 Gallia Street:geo:-82.9887,38.7346
END:VEVENT
BEGIN:VEVENT
DTSTART;TZID=America/New_York:20260826T163000
DTEND;TZID=America/New_York:20260826T173000
DTSTAMP:20260424T193446
CREATED:20260417T165317Z
LAST-MODIFIED:20260417T165317Z
UID:10004941-1787761800-1787765400@www.sciotolibrary.org
SUMMARY:ColorCraze
DESCRIPTION:A fun and welcoming coloring program for teens to explore creativity\, relax\, and enjoy art together.
URL:https://www.sciotolibrary.org/event/colorcraze
LOCATION:New Boston Library\, 3850 Rhodes Avenue\, New Boston\, OH\, 45662\, United States
CATEGORIES:Teen Programs
ATTACH;FMTTYPE=image/jpeg:https://www.sciotolibrary.org/v4/wp-content/uploads/2026/04/Teen-August.jpg
GEO:38.7505635;-82.9384406
X-APPLE-STRUCTURED-LOCATION;VALUE=URI;X-ADDRESS=New Boston Library 3850 Rhodes Avenue New Boston OH 45662 United States;X-APPLE-RADIUS=500;X-TITLE=3850 Rhodes Avenue:geo:-82.9384406,38.7505635
END:VEVENT
END:VCALENDAR