BEGIN:VCALENDAR
VERSION:2.0
PRODID:-//Scioto County Public Library - ECPv6.10.0//NONSGML v1.0//EN
CALSCALE:GREGORIAN
METHOD:PUBLISH
X-ORIGINAL-URL:https://www.sciotolibrary.org
X-WR-CALDESC:Events for Scioto County Public Library
REFRESH-INTERVAL;VALUE=DURATION:PT1H
X-Robots-Tag:noindex
X-PUBLISHED-TTL:PT1H
BEGIN:VTIMEZONE
TZID:America/New_York
BEGIN:DAYLIGHT
TZOFFSETFROM:-0500
TZOFFSETTO:-0400
TZNAME:EDT
DTSTART:20260308T070000
END:DAYLIGHT
BEGIN:STANDARD
TZOFFSETFROM:-0400
TZOFFSETTO:-0500
TZNAME:EST
DTSTART:20261101T060000
END:STANDARD
END:VTIMEZONE
BEGIN:VEVENT
DTSTART;TZID=America/New_York:20260714T173000
DTEND;TZID=America/New_York:20260714T190000
DTSTAMP:20260425T230544
CREATED:20260425T185603Z
LAST-MODIFIED:20260425T185603Z
UID:10005052-1784050200-1784055600@www.sciotolibrary.org
SUMMARY:Adult Painting Series: American Flag Sky
DESCRIPTION:Join us in the Meeting Room to create a beautiful American flag across the night sky.  Registration is required.  All supplies are provided for this free adult program.
URL:https://www.sciotolibrary.org/event/adult-painting-series-american-flag-sky
LOCATION:Portsmouth Public Library\, 1220 Gallia Street\, Portsmouth\, OH\, 45662\, United States
CATEGORIES:Adult Programs
ATTACH;FMTTYPE=image/png:https://www.sciotolibrary.org/v4/wp-content/uploads/2026/04/painting-1.png
GEO:38.7346;-82.9887
X-APPLE-STRUCTURED-LOCATION;VALUE=URI;X-ADDRESS=Portsmouth Public Library 1220 Gallia Street Portsmouth OH 45662 United States;X-APPLE-RADIUS=500;X-TITLE=1220 Gallia Street:geo:-82.9887,38.7346
END:VEVENT
BEGIN:VEVENT
DTSTART;TZID=America/New_York:20260720T173000
DTEND;TZID=America/New_York:20260720T190000
DTSTAMP:20260425T230544
CREATED:20260425T183111Z
LAST-MODIFIED:20260425T183111Z
UID:10005050-1784568600-1784574000@www.sciotolibrary.org
SUMMARY:Cookbook Club Presents: Dino Party
DESCRIPTION:Join us for a fun dino-themed evening.  We will be watching the movie “We’re Back” while enjoying dino treats!  Meeting Room 5:30-7:00pm.
URL:https://www.sciotolibrary.org/event/cookbook-club-presents-dino-party-2
LOCATION:Portsmouth Public Library\, 1220 Gallia Street\, Portsmouth\, OH\, 45662\, United States
CATEGORIES:Adult Programs
ATTACH;FMTTYPE=image/png:https://www.sciotolibrary.org/v4/wp-content/uploads/2026/04/CB-Club-3.png
GEO:38.7346;-82.9887
X-APPLE-STRUCTURED-LOCATION;VALUE=URI;X-ADDRESS=Portsmouth Public Library 1220 Gallia Street Portsmouth OH 45662 United States;X-APPLE-RADIUS=500;X-TITLE=1220 Gallia Street:geo:-82.9887,38.7346
END:VEVENT
BEGIN:VEVENT
DTSTART;TZID=America/New_York:20260720T173000
DTEND;TZID=America/New_York:20260720T190000
DTSTAMP:20260425T230544
CREATED:20260425T183206Z
LAST-MODIFIED:20260425T183206Z
UID:10005051-1784568600-1784574000@www.sciotolibrary.org
SUMMARY:Cookbook Club Presents: Dino Party
DESCRIPTION:Join us for a fun dino-themed evening.  We will be watching the movie “We’re Back” while enjoying dino treats!  Meeting Room 5:30-7:00pm.
URL:https://www.sciotolibrary.org/event/cookbook-club-presents-dino-party-3
LOCATION:Portsmouth Public Library\, 1220 Gallia Street\, Portsmouth\, OH\, 45662\, United States
CATEGORIES:Adult Programs
ATTACH;FMTTYPE=image/png:https://www.sciotolibrary.org/v4/wp-content/uploads/2026/04/CB-Club-4.png
GEO:38.7346;-82.9887
X-APPLE-STRUCTURED-LOCATION;VALUE=URI;X-ADDRESS=Portsmouth Public Library 1220 Gallia Street Portsmouth OH 45662 United States;X-APPLE-RADIUS=500;X-TITLE=1220 Gallia Street:geo:-82.9887,38.7346
END:VEVENT
BEGIN:VEVENT
DTSTART;TZID=America/New_York:20260720T180000
DTEND;TZID=America/New_York:20260720T190000
DTSTAMP:20260425T230544
CREATED:20260417T164250Z
LAST-MODIFIED:20260417T164311Z
UID:10004928-1784570400-1784574000@www.sciotolibrary.org
SUMMARY:Snowcone Cake Pops
DESCRIPTION:Inspired by the classic frozen treat\, create cake pops to celebrate America 250.  \nRegistration is required to participate in this program.  \nPlease call 740-456-4412 to register.
URL:https://www.sciotolibrary.org/event/cake-pops
LOCATION:New Boston Library\, 3850 Rhodes Avenue\, New Boston\, OH\, 45662\, United States
CATEGORIES:Adult Programs
ATTACH;FMTTYPE=image/jpeg:https://www.sciotolibrary.org/v4/wp-content/uploads/2026/04/Adult-July.jpg
GEO:38.7505635;-82.9384406
X-APPLE-STRUCTURED-LOCATION;VALUE=URI;X-ADDRESS=New Boston Library 3850 Rhodes Avenue New Boston OH 45662 United States;X-APPLE-RADIUS=500;X-TITLE=3850 Rhodes Avenue:geo:-82.9384406,38.7505635
END:VEVENT
BEGIN:VEVENT
DTSTART;TZID=America/New_York:20260721T160000
DTEND;TZID=America/New_York:20260721T170000
DTSTAMP:20260425T230544
CREATED:20260414T193604Z
LAST-MODIFIED:20260414T193604Z
UID:10004887-1784649600-1784653200@www.sciotolibrary.org
SUMMARY:Button Bouquet
DESCRIPTION:Create a cute bouquet of flowers using buttons and salt shakers. It is guaranteed that these “flowers” will never wilt! This will take place at the main library location on Tuesday\, July 21st at 4 pm. This is an adult only program. Please call 740-354-5304 to register.
URL:https://www.sciotolibrary.org/event/button-bouquet
LOCATION:Portsmouth Public Library\, 1220 Gallia Street\, Portsmouth\, OH\, 45662\, United States
CATEGORIES:Adult Programs
ATTACH;FMTTYPE=image/png:https://www.sciotolibrary.org/v4/wp-content/uploads/2026/04/Salt-Shaker-Button-Bouquet.png
GEO:38.7346;-82.9887
X-APPLE-STRUCTURED-LOCATION;VALUE=URI;X-ADDRESS=Portsmouth Public Library 1220 Gallia Street Portsmouth OH 45662 United States;X-APPLE-RADIUS=500;X-TITLE=1220 Gallia Street:geo:-82.9887,38.7346
END:VEVENT
BEGIN:VEVENT
DTSTART;TZID=America/New_York:20260725T113000
DTEND;TZID=America/New_York:20260725T130000
DTSTAMP:20260425T230544
CREATED:20260421T210009Z
LAST-MODIFIED:20260421T210009Z
UID:10005003-1784979000-1784984400@www.sciotolibrary.org
SUMMARY:Craft Buffet
DESCRIPTION:Join us to create all the crafts you can think of! We will provide all the supplies you bring your creativity.
URL:https://www.sciotolibrary.org/event/craft-buffet-5
LOCATION:Portsmouth Public Library\, 1220 Gallia Street\, Portsmouth\, OH\, 45662\, United States
CATEGORIES:Adult Programs,Teen Programs
ATTACH;FMTTYPE=image/png:https://www.sciotolibrary.org/v4/wp-content/uploads/2026/04/Craft-Buffet-1.png
GEO:38.7346;-82.9887
X-APPLE-STRUCTURED-LOCATION;VALUE=URI;X-ADDRESS=Portsmouth Public Library 1220 Gallia Street Portsmouth OH 45662 United States;X-APPLE-RADIUS=500;X-TITLE=1220 Gallia Street:geo:-82.9887,38.7346
END:VEVENT
BEGIN:VEVENT
DTSTART;TZID=America/New_York:20260725T143000
DTEND;TZID=America/New_York:20260725T163000
DTSTAMP:20260425T230544
CREATED:20260424T163836Z
LAST-MODIFIED:20260424T163836Z
UID:10005045-1784989800-1784997000@www.sciotolibrary.org
SUMMARY:Dungeons & Dragons: Campaign Group
DESCRIPTION:Go on epic adventures and battle deadly foes in the 5th edition of this popular role-playing game. All levels of experience and skill are welcome! Join the fun from 2:30 – 4:30pm in the Meeting Room. Ages 18+.
URL:https://www.sciotolibrary.org/event/dungeons-dragons-campaign-group-15
LOCATION:Portsmouth Public Library\, 1220 Gallia Street\, Portsmouth\, OH\, 45662\, United States
CATEGORIES:Adult Programs
ATTACH;FMTTYPE=image/jpeg:https://www.sciotolibrary.org/v4/wp-content/uploads/2026/04/DD3-3.jpg
GEO:38.7346;-82.9887
X-APPLE-STRUCTURED-LOCATION;VALUE=URI;X-ADDRESS=Portsmouth Public Library 1220 Gallia Street Portsmouth OH 45662 United States;X-APPLE-RADIUS=500;X-TITLE=1220 Gallia Street:geo:-82.9887,38.7346
END:VEVENT
BEGIN:VEVENT
DTSTART;TZID=America/New_York:20260727T173000
DTEND;TZID=America/New_York:20260727T193000
DTSTAMP:20260425T230544
CREATED:20260407T173650Z
LAST-MODIFIED:20260423T205444Z
UID:10004871-1785173400-1785180600@www.sciotolibrary.org
SUMMARY:Dungeons & Dragons: One Shot Group
DESCRIPTION:Go on epic adventures and battle deadly foes in the 5th edition of this popular role-playing game. All levels of experience and skill are welcome! Join the fun from 5:30pm – 7:30pm in the Meeting Room. Ages 18+.
URL:https://www.sciotolibrary.org/event/dungeons-dragons-5
LOCATION:Portsmouth Public Library\, 1220 Gallia Street\, Portsmouth\, OH\, 45662\, United States
CATEGORIES:Adult Programs
ATTACH;FMTTYPE=image/jpeg:https://www.sciotolibrary.org/v4/wp-content/uploads/2026/04/dd-4.jpg
GEO:38.7346;-82.9887
X-APPLE-STRUCTURED-LOCATION;VALUE=URI;X-ADDRESS=Portsmouth Public Library 1220 Gallia Street Portsmouth OH 45662 United States;X-APPLE-RADIUS=500;X-TITLE=1220 Gallia Street:geo:-82.9887,38.7346
END:VEVENT
BEGIN:VEVENT
DTSTART;TZID=America/New_York:20260728T173000
DTEND;TZID=America/New_York:20260728T190000
DTSTAMP:20260425T230544
CREATED:20260425T190409Z
LAST-MODIFIED:20260425T190409Z
UID:10005053-1785259800-1785265200@www.sciotolibrary.org
SUMMARY:Seed Library Presents: Transplanting Expanded
DESCRIPTION:Join Agriculture and Natural Resources Extension Educator\nAaren Patton from the OSU Extension Agency to discuss all the how to’s\nof starting your garden. Don’t forget to check out the Seed Library in\nAdult Services at our Portsmouth location.
URL:https://www.sciotolibrary.org/event/seed-library-presents-transplanting-expanded
LOCATION:Portsmouth Public Library\, 1220 Gallia Street\, Portsmouth\, OH\, 45662\, United States
CATEGORIES:Adult Programs
ATTACH;FMTTYPE=image/png:https://www.sciotolibrary.org/v4/wp-content/uploads/2026/04/gardening-2.png
GEO:38.7346;-82.9887
X-APPLE-STRUCTURED-LOCATION;VALUE=URI;X-ADDRESS=Portsmouth Public Library 1220 Gallia Street Portsmouth OH 45662 United States;X-APPLE-RADIUS=500;X-TITLE=1220 Gallia Street:geo:-82.9887,38.7346
END:VEVENT
BEGIN:VEVENT
DTSTART;TZID=America/New_York:20260803T173000
DTEND;TZID=America/New_York:20260803T183000
DTSTAMP:20260425T230544
CREATED:20260420T232416Z
LAST-MODIFIED:20260420T232436Z
UID:10004979-1785778200-1785781800@www.sciotolibrary.org
SUMMARY:Romance Book Club
DESCRIPTION:Romance Book Club is a recurring\, adult-only program at the Lucasville Branch. The book club reads titles exclusive to the expansive Romance genre! Each month will focus on a different subgenre of romance (historical\, paranormal\, fantasy\, contemporary\, etc.) and book club members will vote on a title from a choice of three. The book club meets on the first Monday of each month at 5:30 pm. For more information\, call 740-259-6119.
URL:https://www.sciotolibrary.org/event/romance-book-club-4
LOCATION:Lucasville Library\, 103 Lucasville-Minford Rd\, Lucasville\, OH\, 45648\, United States
CATEGORIES:Adult Programs
ATTACH;FMTTYPE=image/jpeg:https://www.sciotolibrary.org/v4/wp-content/uploads/2026/04/Romance-Book-Club-Summer-2026-7.jpg
GEO:38.8764486;-82.9652131
X-APPLE-STRUCTURED-LOCATION;VALUE=URI;X-ADDRESS=Lucasville Library 103 Lucasville-Minford Rd Lucasville OH 45648 United States;X-APPLE-RADIUS=500;X-TITLE=103 Lucasville-Minford Rd:geo:-82.9652131,38.8764486
END:VEVENT
BEGIN:VEVENT
DTSTART;TZID=America/New_York:20260806T160000
DTEND;TZID=America/New_York:20260806T170000
DTSTAMP:20260425T230544
CREATED:20260413T171900Z
LAST-MODIFIED:20260413T171900Z
UID:10004884-1786032000-1786035600@www.sciotolibrary.org
SUMMARY:Paper Plate String Art
DESCRIPTION:The sky’s the limit with this easy and fun craft! All you need is a paper plate and some string to bring your creation to life. Make any shape you’d like or some cool design your heart desires! All ages. Main library location. Please call to register\, 720-354-5304.
URL:https://www.sciotolibrary.org/event/paper-plate-string-art
LOCATION:Portsmouth Public Library\, 1220 Gallia Street\, Portsmouth\, OH\, 45662\, United States
CATEGORIES:Adult Programs,Tween Programs
ATTACH;FMTTYPE=image/jpeg:https://www.sciotolibrary.org/v4/wp-content/uploads/2026/04/IMG_20190221_140932509_HDR-scaled.jpg
GEO:38.7346;-82.9887
X-APPLE-STRUCTURED-LOCATION;VALUE=URI;X-ADDRESS=Portsmouth Public Library 1220 Gallia Street Portsmouth OH 45662 United States;X-APPLE-RADIUS=500;X-TITLE=1220 Gallia Street:geo:-82.9887,38.7346
END:VEVENT
BEGIN:VEVENT
DTSTART;TZID=America/New_York:20260808T143000
DTEND;TZID=America/New_York:20260808T163000
DTSTAMP:20260425T230544
CREATED:20260425T192417Z
LAST-MODIFIED:20260425T192417Z
UID:10005059-1786199400-1786206600@www.sciotolibrary.org
SUMMARY:Dungeons & Dragons: Campaign Group
DESCRIPTION:Go on epic adventures and battle deadly foes in the 5th edition of this popular role-playing game. All levels of experience and skill are welcome! Join the fun from 2:30 – 4:30pm in the Meeting Room. Ages 18+.
URL:https://www.sciotolibrary.org/event/dungeons-dragons-campaign-group-16
LOCATION:Portsmouth Public Library\, 1220 Gallia Street\, Portsmouth\, OH\, 45662\, United States
CATEGORIES:Adult Programs
ATTACH;FMTTYPE=image/jpeg:https://www.sciotolibrary.org/v4/wp-content/uploads/2026/04/dd-5-1.jpg
GEO:38.7346;-82.9887
X-APPLE-STRUCTURED-LOCATION;VALUE=URI;X-ADDRESS=Portsmouth Public Library 1220 Gallia Street Portsmouth OH 45662 United States;X-APPLE-RADIUS=500;X-TITLE=1220 Gallia Street:geo:-82.9887,38.7346
END:VEVENT
BEGIN:VEVENT
DTSTART;TZID=America/New_York:20260810T173000
DTEND;TZID=America/New_York:20260810T193000
DTSTAMP:20260425T230544
CREATED:20260407T173830Z
LAST-MODIFIED:20260423T205515Z
UID:10004872-1786383000-1786390200@www.sciotolibrary.org
SUMMARY:Dungeons & Dragons: One Shot Group
DESCRIPTION:Go on epic adventures and battle deadly foes in the 5th edition of this popular role-playing game. All levels of experience and skill are welcome! Join the fun from 5:30pm – 7:30pm in the Meeting Room. Ages 18+.
URL:https://www.sciotolibrary.org/event/dungeons-dragons-4
LOCATION:Portsmouth Public Library\, 1220 Gallia Street\, Portsmouth\, OH\, 45662\, United States
CATEGORIES:Adult Programs
ATTACH;FMTTYPE=image/jpeg:https://www.sciotolibrary.org/v4/wp-content/uploads/2026/04/dd-4-1.jpg
GEO:38.7346;-82.9887
X-APPLE-STRUCTURED-LOCATION;VALUE=URI;X-ADDRESS=Portsmouth Public Library 1220 Gallia Street Portsmouth OH 45662 United States;X-APPLE-RADIUS=500;X-TITLE=1220 Gallia Street:geo:-82.9887,38.7346
END:VEVENT
BEGIN:VEVENT
DTSTART;TZID=America/New_York:20260810T180000
DTEND;TZID=America/New_York:20260810T190000
DTSTAMP:20260425T230544
CREATED:20260420T232855Z
LAST-MODIFIED:20260420T232855Z
UID:10004980-1786384800-1786388400@www.sciotolibrary.org
SUMMARY:Faux Cactus Craft
DESCRIPTION:The Lucasville Library will be having a Faux Cactus craft activity for adults on Monday\, August 10th at 6pm. We will be using wooden eggs and other materials to create a decorative miniature cactus! For more information\, call 740-259-6119.
URL:https://www.sciotolibrary.org/event/faux-cactus-craft
LOCATION:Lucasville Library\, 103 Lucasville-Minford Rd\, Lucasville\, OH\, 45648\, United States
CATEGORIES:Adult Programs
ATTACH;FMTTYPE=image/jpeg:https://www.sciotolibrary.org/v4/wp-content/uploads/2026/04/LU-Adult-Aug.-2026.jpeg
GEO:38.8764486;-82.9652131
X-APPLE-STRUCTURED-LOCATION;VALUE=URI;X-ADDRESS=Lucasville Library 103 Lucasville-Minford Rd Lucasville OH 45648 United States;X-APPLE-RADIUS=500;X-TITLE=103 Lucasville-Minford Rd:geo:-82.9652131,38.8764486
END:VEVENT
BEGIN:VEVENT
DTSTART;TZID=America/New_York:20260811T160000
DTEND;TZID=America/New_York:20260811T170000
DTSTAMP:20260425T230544
CREATED:20260414T193944Z
LAST-MODIFIED:20260414T193944Z
UID:10004888-1786464000-1786467600@www.sciotolibrary.org
SUMMARY:DIY Desk Organizer
DESCRIPTION:Upcycle and decorate cereal boxes and paper towel rolls and turn them into a unique desk organizer just in time for the school season! This will take place at the main library location on Tuesday\, August 11th at 4 pm. Ages 8-adult are welcome. Please call 740-354-5304 to register.
URL:https://www.sciotolibrary.org/event/diy-desk-organizer
LOCATION:Portsmouth Public Library\, 1220 Gallia Street\, Portsmouth\, OH\, 45662\, United States
CATEGORIES:Adult Programs,Teen Programs,Tween Programs
ATTACH;FMTTYPE=image/png:https://www.sciotolibrary.org/v4/wp-content/uploads/2026/04/Desk-Organizer.png
GEO:38.7346;-82.9887
X-APPLE-STRUCTURED-LOCATION;VALUE=URI;X-ADDRESS=Portsmouth Public Library 1220 Gallia Street Portsmouth OH 45662 United States;X-APPLE-RADIUS=500;X-TITLE=1220 Gallia Street:geo:-82.9887,38.7346
END:VEVENT
BEGIN:VEVENT
DTSTART;TZID=America/New_York:20260811T173000
DTEND;TZID=America/New_York:20260811T190000
DTSTAMP:20260425T230544
CREATED:20260417T194220Z
LAST-MODIFIED:20260417T194220Z
UID:10004966-1786469400-1786474800@www.sciotolibrary.org
SUMMARY:Cutting Board Painting
DESCRIPTION:Join us for a creative evening at our Decorative Cutting Board Painting program for adults! Participants will paint and decorate a wooden cutting board. Adults 18+. Registration Required.
URL:https://www.sciotolibrary.org/event/cutting-board-painting-2
LOCATION:Wheelersburg Library\, 10745 Old Gallia Pike\, Wheelersburg\, OH\, 45694\, United States
CATEGORIES:Adult Programs
ATTACH;FMTTYPE=image/png:https://www.sciotolibrary.org/v4/wp-content/uploads/2026/04/WH-August-Adult.png
GEO:38.7139504;-82.8535508
X-APPLE-STRUCTURED-LOCATION;VALUE=URI;X-ADDRESS=Wheelersburg Library 10745 Old Gallia Pike Wheelersburg OH 45694 United States;X-APPLE-RADIUS=500;X-TITLE=10745 Old Gallia Pike:geo:-82.8535508,38.7139504
END:VEVENT
BEGIN:VEVENT
DTSTART;TZID=America/New_York:20260811T173000
DTEND;TZID=America/New_York:20260811T190000
DTSTAMP:20260425T230544
CREATED:20260425T193704Z
LAST-MODIFIED:20260425T193704Z
UID:10005063-1786469400-1786474800@www.sciotolibrary.org
SUMMARY:Adult Painting Series: Cat in Sunflowers
DESCRIPTION:Join us in the meeting room to follow along and create this adorable cat in the sunflowers painting.  This is a free program for ages 18+
URL:https://www.sciotolibrary.org/event/adult-painting-series-cat-in-sunflowers
LOCATION:Portsmouth Public Library\, 1220 Gallia Street\, Portsmouth\, OH\, 45662\, United States
CATEGORIES:Adult Programs
ATTACH;FMTTYPE=image/png:https://www.sciotolibrary.org/v4/wp-content/uploads/2026/04/painting-2.png
GEO:38.7346;-82.9887
X-APPLE-STRUCTURED-LOCATION;VALUE=URI;X-ADDRESS=Portsmouth Public Library 1220 Gallia Street Portsmouth OH 45662 United States;X-APPLE-RADIUS=500;X-TITLE=1220 Gallia Street:geo:-82.9887,38.7346
END:VEVENT
BEGIN:VEVENT
DTSTART;TZID=America/New_York:20260813T180000
DTEND;TZID=America/New_York:20260813T193000
DTSTAMP:20260425T230544
CREATED:20260407T165733Z
LAST-MODIFIED:20260407T165733Z
UID:10004856-1786644000-1786649400@www.sciotolibrary.org
SUMMARY:Trivia Night
DESCRIPTION:Join us for a fun night of treats\, trivia and laughs. Come as a team or solo\, but be sure to bring your A game for a chance to win a prize.
URL:https://www.sciotolibrary.org/event/trivia-night-7
LOCATION:Portsmouth Public Library\, 1220 Gallia Street\, Portsmouth\, OH\, 45662\, United States
CATEGORIES:Adult Programs,Teen Programs
ATTACH;FMTTYPE=image/png:https://www.sciotolibrary.org/v4/wp-content/uploads/2026/04/trivia-2.png
GEO:38.7346;-82.9887
X-APPLE-STRUCTURED-LOCATION;VALUE=URI;X-ADDRESS=Portsmouth Public Library 1220 Gallia Street Portsmouth OH 45662 United States;X-APPLE-RADIUS=500;X-TITLE=1220 Gallia Street:geo:-82.9887,38.7346
END:VEVENT
BEGIN:VEVENT
DTSTART;TZID=America/New_York:20260817T173000
DTEND;TZID=America/New_York:20260817T190000
DTSTAMP:20260425T230544
CREATED:20260425T192953Z
LAST-MODIFIED:20260425T192953Z
UID:10005061-1786987800-1786993200@www.sciotolibrary.org
SUMMARY:Cookbook Club Presents: Cooking Basics
DESCRIPTION:Join us at Kitchen Collective with Chef Julia Biggs at 5:30pm to learn some hands on cooking basics and sample what you make.  Registration is required. Ages 18+
URL:https://www.sciotolibrary.org/event/cookbook-club-presents-cooking-basics-3
LOCATION:OH
CATEGORIES:Adult Programs
ATTACH;FMTTYPE=image/png:https://www.sciotolibrary.org/v4/wp-content/uploads/2026/04/CB-Club-5.png
END:VEVENT
BEGIN:VEVENT
DTSTART;TZID=America/New_York:20260817T180000
DTEND;TZID=America/New_York:20260817T190000
DTSTAMP:20260425T230544
CREATED:20260417T165204Z
LAST-MODIFIED:20260417T165204Z
UID:10004939-1786989600-1786993200@www.sciotolibrary.org
SUMMARY:Decoden Magnetic Picture Frame
DESCRIPTION:Adults are welcome to create their own wallet-sized\, magnetic picture frame with spackle and charms!  \nRegistration is required.\n740-456-4412.
URL:https://www.sciotolibrary.org/event/decoden-magnetic-picture-frame
LOCATION:New Boston Library\, 3850 Rhodes Avenue\, New Boston\, OH\, 45662\, United States
CATEGORIES:Adult Programs
ATTACH;FMTTYPE=image/jpeg:https://www.sciotolibrary.org/v4/wp-content/uploads/2026/04/Adult-August.jpg
GEO:38.7505635;-82.9384406
X-APPLE-STRUCTURED-LOCATION;VALUE=URI;X-ADDRESS=New Boston Library 3850 Rhodes Avenue New Boston OH 45662 United States;X-APPLE-RADIUS=500;X-TITLE=3850 Rhodes Avenue:geo:-82.9384406,38.7505635
END:VEVENT
BEGIN:VEVENT
DTSTART;TZID=America/New_York:20260822T143000
DTEND;TZID=America/New_York:20260822T163000
DTSTAMP:20260425T230544
CREATED:20260425T192505Z
LAST-MODIFIED:20260425T192505Z
UID:10005060-1787409000-1787416200@www.sciotolibrary.org
SUMMARY:Dungeons & Dragons: Campaign Group
DESCRIPTION:Go on epic adventures and battle deadly foes in the 5th edition of this popular role-playing game. All levels of experience and skill are welcome! Join the fun from 2:30 – 4:30pm in the Meeting Room. Ages 18+.
URL:https://www.sciotolibrary.org/event/dungeons-dragons-campaign-group-17
LOCATION:Portsmouth Public Library\, 1220 Gallia Street\, Portsmouth\, OH\, 45662\, United States
CATEGORIES:Adult Programs
ATTACH;FMTTYPE=image/jpeg:https://www.sciotolibrary.org/v4/wp-content/uploads/2026/04/DD-2-7.jpg
GEO:38.7346;-82.9887
X-APPLE-STRUCTURED-LOCATION;VALUE=URI;X-ADDRESS=Portsmouth Public Library 1220 Gallia Street Portsmouth OH 45662 United States;X-APPLE-RADIUS=500;X-TITLE=1220 Gallia Street:geo:-82.9887,38.7346
END:VEVENT
BEGIN:VEVENT
DTSTART;TZID=America/New_York:20260824T173000
DTEND;TZID=America/New_York:20260824T193000
DTSTAMP:20260425T230544
CREATED:20260407T173908Z
LAST-MODIFIED:20260424T161119Z
UID:10004873-1787592600-1787599800@www.sciotolibrary.org
SUMMARY:Dungeons & Dragons: One Shot Group
DESCRIPTION:Go on epic adventures and battle deadly foes in the 5th edition of this popular role-playing game. All levels of experience and skill are welcome! Join the fun from 5:30pm – 7:30pm in the Meeting Room. Ages 18+.
URL:https://www.sciotolibrary.org/event/dungeons-dragons-6
LOCATION:Portsmouth Public Library\, 1220 Gallia Street\, Portsmouth\, OH\, 45662\, United States
CATEGORIES:Adult Programs
ATTACH;FMTTYPE=image/jpeg:https://www.sciotolibrary.org/v4/wp-content/uploads/2026/04/DD-2-3.jpg
GEO:38.7346;-82.9887
X-APPLE-STRUCTURED-LOCATION;VALUE=URI;X-ADDRESS=Portsmouth Public Library 1220 Gallia Street Portsmouth OH 45662 United States;X-APPLE-RADIUS=500;X-TITLE=1220 Gallia Street:geo:-82.9887,38.7346
END:VEVENT
BEGIN:VEVENT
DTSTART;TZID=America/New_York:20260825T173000
DTEND;TZID=America/New_York:20260825T190000
DTSTAMP:20260425T230544
CREATED:20260425T193854Z
LAST-MODIFIED:20260425T193854Z
UID:10005064-1787679000-1787684400@www.sciotolibrary.org
SUMMARY:Seed Library Presents: Indoor Gardening
DESCRIPTION:Join Agriculture and Natural Resources Extension Educator\nAaren Patton from the OSU Extension Agency to discuss all the how to’s\nof starting your garden. Don’t forget to check out the Seed Library in\nAdult Services at our Portsmouth location.
URL:https://www.sciotolibrary.org/event/seed-library-presents-indoor-gardening
LOCATION:Portsmouth Public Library\, 1220 Gallia Street\, Portsmouth\, OH\, 45662\, United States
CATEGORIES:Adult Programs
ATTACH;FMTTYPE=image/png:https://www.sciotolibrary.org/v4/wp-content/uploads/2026/04/gardening-3.png
GEO:38.7346;-82.9887
X-APPLE-STRUCTURED-LOCATION;VALUE=URI;X-ADDRESS=Portsmouth Public Library 1220 Gallia Street Portsmouth OH 45662 United States;X-APPLE-RADIUS=500;X-TITLE=1220 Gallia Street:geo:-82.9887,38.7346
END:VEVENT
BEGIN:VEVENT
DTSTART;TZID=America/New_York:20260829T143000
DTEND;TZID=America/New_York:20260829T160000
DTSTAMP:20260425T230544
CREATED:20260425T193332Z
LAST-MODIFIED:20260425T193332Z
UID:10005062-1788013800-1788019200@www.sciotolibrary.org
SUMMARY:Crafty Artists Presents: Painting Class Remix
DESCRIPTION:If you missed this month’s adult painting class here is your second chance!  Join us in the meeting room to create your own version of the classic painting “Starry Night”. Registration is required and all supplies will be provided.
URL:https://www.sciotolibrary.org/event/crafty-artists-presents-painting-class-remix-3
LOCATION:Portsmouth Public Library\, 1220 Gallia Street\, Portsmouth\, OH\, 45662\, United States
CATEGORIES:Adult Programs
ATTACH;FMTTYPE=image/png:https://www.sciotolibrary.org/v4/wp-content/uploads/2026/04/Crafty-Artists-1.png
GEO:38.7346;-82.9887
X-APPLE-STRUCTURED-LOCATION;VALUE=URI;X-ADDRESS=Portsmouth Public Library 1220 Gallia Street Portsmouth OH 45662 United States;X-APPLE-RADIUS=500;X-TITLE=1220 Gallia Street:geo:-82.9887,38.7346
END:VEVENT
END:VCALENDAR