BEGIN:VCALENDAR
VERSION:2.0
PRODID:-//Scioto County Public Library - ECPv6.10.0//NONSGML v1.0//EN
CALSCALE:GREGORIAN
METHOD:PUBLISH
X-ORIGINAL-URL:https://www.sciotolibrary.org
X-WR-CALDESC:Events for Scioto County Public Library
REFRESH-INTERVAL;VALUE=DURATION:PT1H
X-Robots-Tag:noindex
X-PUBLISHED-TTL:PT1H
BEGIN:VTIMEZONE
TZID:America/New_York
BEGIN:DAYLIGHT
TZOFFSETFROM:-0500
TZOFFSETTO:-0400
TZNAME:EDT
DTSTART:20260308T070000
END:DAYLIGHT
BEGIN:STANDARD
TZOFFSETFROM:-0400
TZOFFSETTO:-0500
TZNAME:EST
DTSTART:20261101T060000
END:STANDARD
END:VTIMEZONE
BEGIN:VEVENT
DTSTART;TZID=America/New_York:20260828T143000
DTEND;TZID=America/New_York:20260828T160000
DTSTAMP:20260421T072324
CREATED:20260407T170300Z
LAST-MODIFIED:20260407T170300Z
UID:10004862-1787927400-1787932800@www.sciotolibrary.org
SUMMARY:Free Day Friday
DESCRIPTION:Stop by the Library to make a craft\, play card or board games or compete with others on a fun computer/VR game. This free program is from 2:30-4:00 in the Meeting room for ages 13-18.
URL:https://www.sciotolibrary.org/event/free-day-friday-15
LOCATION:Portsmouth Public Library\, 1220 Gallia Street\, Portsmouth\, OH\, 45662\, United States
CATEGORIES:Teen Programs
ATTACH;FMTTYPE=image/png:https://www.sciotolibrary.org/v4/wp-content/uploads/2026/04/Daily-Teen-Program-12.png
GEO:38.7346;-82.9887
X-APPLE-STRUCTURED-LOCATION;VALUE=URI;X-ADDRESS=Portsmouth Public Library 1220 Gallia Street Portsmouth OH 45662 United States;X-APPLE-RADIUS=500;X-TITLE=1220 Gallia Street:geo:-82.9887,38.7346
END:VEVENT
BEGIN:VEVENT
DTSTART;TZID=America/New_York:20260828T160000
DTEND;TZID=America/New_York:20260828T170000
DTSTAMP:20260421T072324
CREATED:20260420T232030Z
LAST-MODIFIED:20260420T232058Z
UID:10004977-1787932800-1787936400@www.sciotolibrary.org
SUMMARY:Sensory Storytime
DESCRIPTION:Kids ages 3-8 are welcome to join us at the Lucasville Library on Friday\, August 28th at 4pm for sensory storytime. We will be enjoying stories\, songs\, movement and play in a sensory friendly environment! For more information\, call 740-259-6119.
URL:https://www.sciotolibrary.org/event/sensory-storytime-5
LOCATION:Lucasville Library\, 103 Lucasville-Minford Rd\, Lucasville\, OH\, 45648\, United States
CATEGORIES:Childrens Programs
ATTACH;FMTTYPE=image/png:https://www.sciotolibrary.org/v4/wp-content/uploads/2026/04/Sensory-Storytime-Flyer-Updated-1.png
GEO:38.8764486;-82.9652131
X-APPLE-STRUCTURED-LOCATION;VALUE=URI;X-ADDRESS=Lucasville Library 103 Lucasville-Minford Rd Lucasville OH 45648 United States;X-APPLE-RADIUS=500;X-TITLE=103 Lucasville-Minford Rd:geo:-82.9652131,38.8764486
END:VEVENT
BEGIN:VEVENT
DTSTART;TZID=America/New_York:20260829T130000
DTEND;TZID=America/New_York:20260829T160000
DTSTAMP:20260421T072324
CREATED:20260417T165432Z
LAST-MODIFIED:20260417T165432Z
UID:10004943-1788008400-1788019200@www.sciotolibrary.org
SUMMARY:Family Game Day
DESCRIPTION:Join us this month for board games\, video games\, and family fun.
URL:https://www.sciotolibrary.org/event/family-game-day-3
LOCATION:New Boston Library\, 3850 Rhodes Avenue\, New Boston\, OH\, 45662\, United States
ATTACH;FMTTYPE=image/jpeg:https://www.sciotolibrary.org/v4/wp-content/uploads/2026/04/Family-Game-Day-August.jpg
GEO:38.7505635;-82.9384406
X-APPLE-STRUCTURED-LOCATION;VALUE=URI;X-ADDRESS=New Boston Library 3850 Rhodes Avenue New Boston OH 45662 United States;X-APPLE-RADIUS=500;X-TITLE=3850 Rhodes Avenue:geo:-82.9384406,38.7505635
END:VEVENT
END:VCALENDAR