BEGIN:VCALENDAR
VERSION:2.0
PRODID:-//Scioto County Public Library - ECPv6.10.0//NONSGML v1.0//EN
CALSCALE:GREGORIAN
METHOD:PUBLISH
X-WR-CALNAME:Scioto County Public Library
X-ORIGINAL-URL:https://www.sciotolibrary.org
X-WR-CALDESC:Events for Scioto County Public Library
REFRESH-INTERVAL;VALUE=DURATION:PT1H
X-Robots-Tag:noindex
X-PUBLISHED-TTL:PT1H
BEGIN:VTIMEZONE
TZID:America/New_York
BEGIN:DAYLIGHT
TZOFFSETFROM:-0500
TZOFFSETTO:-0400
TZNAME:EDT
DTSTART:20250309T070000
END:DAYLIGHT
BEGIN:STANDARD
TZOFFSETFROM:-0400
TZOFFSETTO:-0500
TZNAME:EST
DTSTART:20251102T060000
END:STANDARD
END:VTIMEZONE
BEGIN:VEVENT
DTSTART;TZID=America/New_York:20251030T130000
DTEND;TZID=America/New_York:20251030T140000
DTSTAMP:20260425T095926
CREATED:20251022T165707Z
LAST-MODIFIED:20251022T165707Z
UID:10003853-1761829200-1761832800@www.sciotolibrary.org
SUMMARY:Trick or Treat Roly Poly storytime
DESCRIPTION:Join Miss Stefanie at the perfect playtime for your little bundles of joy! Music\, dancing\, and reading are essential to your baby’s development so don’t miss out. \nAges 0-24 months \nEnd this storytime by trick or treating the library!
URL:https://www.sciotolibrary.org/event/trick-or-treat-roly-poly-storytime
LOCATION:Portsmouth Public Library\, 1220 Gallia Street\, Portsmouth\, OH\, 45662\, United States
CATEGORIES:Childrens Programs
ATTACH;FMTTYPE=image/png:https://www.sciotolibrary.org/v4/wp-content/uploads/2025/10/FALL-FLYERS-2025-1-1-1.png
GEO:38.7346;-82.9887
X-APPLE-STRUCTURED-LOCATION;VALUE=URI;X-ADDRESS=Portsmouth Public Library 1220 Gallia Street Portsmouth OH 45662 United States;X-APPLE-RADIUS=500;X-TITLE=1220 Gallia Street:geo:-82.9887,38.7346
END:VEVENT
BEGIN:VEVENT
DTSTART;TZID=America/New_York:20251029T143000
DTEND;TZID=America/New_York:20251029T160000
DTSTAMP:20260425T095926
CREATED:20250917T192943Z
LAST-MODIFIED:20250917T192943Z
UID:10003759-1761748200-1761753600@www.sciotolibrary.org
SUMMARY:Computer\, Switch and VR Gaming
DESCRIPTION:Come play games with friends on our gaming laptops\, Nintendo Switch or try out one of our Oculus Quest systems. You can even bring your own system to play. This free program is from 2:30-4:00 in the Meeting room for ages 13-18.
URL:https://www.sciotolibrary.org/event/computer-switch-and-vr-gaming-6
LOCATION:Portsmouth Public Library\, 1220 Gallia Street\, Portsmouth\, OH\, 45662\, United States
CATEGORIES:Teen Programs
ATTACH;FMTTYPE=image/png:https://www.sciotolibrary.org/v4/wp-content/uploads/2025/09/beat-saber.png
GEO:38.7346;-82.9887
X-APPLE-STRUCTURED-LOCATION;VALUE=URI;X-ADDRESS=Portsmouth Public Library 1220 Gallia Street Portsmouth OH 45662 United States;X-APPLE-RADIUS=500;X-TITLE=1220 Gallia Street:geo:-82.9887,38.7346
END:VEVENT
BEGIN:VEVENT
DTSTART;TZID=America/New_York:20251029T113000
DTEND;TZID=America/New_York:20251029T123000
DTSTAMP:20260425T095926
CREATED:20250807T191038Z
LAST-MODIFIED:20250807T191038Z
UID:10003537-1761737400-1761741000@www.sciotolibrary.org
SUMMARY:Trick or Treat Wiggleworms: Toddler Storytime
DESCRIPTION:Wear your costume so you can Trick or Treat the library when storytime ends! \nMiss Kasie’s Storytime is perfect for toddlers that are ready to learn to get their wiggles out before listening to fun books read aloud to them! Music\, dancing and of course books! You and your little ones will enjoy this Storytime that occurs every Wednesday at 11:30am during active Storytime sessions! \nBest for ages 2 to 4!
URL:https://www.sciotolibrary.org/event/trick-or-treat-wiggleworms-toddler-storytime
LOCATION:Portsmouth Public Library\, 1220 Gallia Street\, Portsmouth\, OH\, 45662\, United States
CATEGORIES:Childrens Programs
ATTACH;FMTTYPE=image/png:https://www.sciotolibrary.org/v4/wp-content/uploads/2025/08/FALL-FLYERS-2025-2-9.png
GEO:38.7346;-82.9887
X-APPLE-STRUCTURED-LOCATION;VALUE=URI;X-ADDRESS=Portsmouth Public Library 1220 Gallia Street Portsmouth OH 45662 United States;X-APPLE-RADIUS=500;X-TITLE=1220 Gallia Street:geo:-82.9887,38.7346
END:VEVENT
BEGIN:VEVENT
DTSTART;TZID=America/New_York:20251028T160000
DTEND;TZID=America/New_York:20251028T170000
DTSTAMP:20260425T095926
CREATED:20250814T123800Z
LAST-MODIFIED:20251003T144442Z
UID:10003657-1761667200-1761670800@www.sciotolibrary.org
SUMMARY:Family Storytime
DESCRIPTION:Children are invited to the Lucasville Library for Family Storytime! Join us every Tuesday at 4PM for songs\, stories\, and a craft. This program is geared towards children ages 6 and under. Please call 740-259-6119 for more information.
URL:https://www.sciotolibrary.org/event/family-story-time-33
LOCATION:Lucasville Library\, 103 Lucasville-Minford Rd\, Lucasville\, OH\, 45648\, United States
CATEGORIES:Childrens Programs
ATTACH;FMTTYPE=image/jpeg:https://www.sciotolibrary.org/v4/wp-content/uploads/2025/08/Family-Story-Time-16.jpeg
GEO:38.8764486;-82.9652131
X-APPLE-STRUCTURED-LOCATION;VALUE=URI;X-ADDRESS=Lucasville Library 103 Lucasville-Minford Rd Lucasville OH 45648 United States;X-APPLE-RADIUS=500;X-TITLE=103 Lucasville-Minford Rd:geo:-82.9652131,38.8764486
END:VEVENT
BEGIN:VEVENT
DTSTART;TZID=America/New_York:20251028T143000
DTEND;TZID=America/New_York:20251028T160000
DTSTAMP:20260425T095926
CREATED:20250917T195247Z
LAST-MODIFIED:20250917T195247Z
UID:10003771-1761661800-1761667200@www.sciotolibrary.org
SUMMARY:Candy Minute to Win It
DESCRIPTION:Join us in the meeting room at 2:30 today for a fast paced competition of a variety of games and a chance to win lots of candy! Ages 13-18.
URL:https://www.sciotolibrary.org/event/candy-minute-to-win-it
LOCATION:Portsmouth Public Library\, 1220 Gallia Street\, Portsmouth\, OH\, 45662\, United States
CATEGORIES:Teen Programs
ATTACH;FMTTYPE=image/jpeg:https://www.sciotolibrary.org/v4/wp-content/uploads/2025/09/candy.jpg
GEO:38.7346;-82.9887
X-APPLE-STRUCTURED-LOCATION;VALUE=URI;X-ADDRESS=Portsmouth Public Library 1220 Gallia Street Portsmouth OH 45662 United States;X-APPLE-RADIUS=500;X-TITLE=1220 Gallia Street:geo:-82.9887,38.7346
END:VEVENT
BEGIN:VEVENT
DTSTART;TZID=America/New_York:20251028T113000
DTEND;TZID=America/New_York:20251028T123000
DTSTAMP:20260425T095926
CREATED:20250813T141623Z
LAST-MODIFIED:20250813T141934Z
UID:10003578-1761651000-1761654600@www.sciotolibrary.org
SUMMARY:Wheelersburg Story Time!
DESCRIPTION:Little ones can enjoy story readings\, songs\, crafts\, and more!
URL:https://www.sciotolibrary.org/event/wheelersburg-story-time/2025-10-28
LOCATION:Wheelersburg Library\, 10745 Old Gallia Pike\, Wheelersburg\, OH\, 45694\, United States
CATEGORIES:Childrens Programs
ATTACH;FMTTYPE=image/png:https://www.sciotolibrary.org/v4/wp-content/uploads/2025/08/Story-Time-WH-Sept-Nov-2025-1.png
GEO:38.7139504;-82.8535508
X-APPLE-STRUCTURED-LOCATION;VALUE=URI;X-ADDRESS=Wheelersburg Library 10745 Old Gallia Pike Wheelersburg OH 45694 United States;X-APPLE-RADIUS=500;X-TITLE=10745 Old Gallia Pike:geo:-82.8535508,38.7139504
END:VEVENT
BEGIN:VEVENT
DTSTART;TZID=America/New_York:20251028T113000
DTEND;TZID=America/New_York:20251028T123000
DTSTAMP:20260425T095926
CREATED:20250807T181622Z
LAST-MODIFIED:20250807T181622Z
UID:10003515-1761651000-1761654600@www.sciotolibrary.org
SUMMARY:Trick or Treat Bookworms: Preschool Storytime
DESCRIPTION:Wear your costume trick or treat at the library once Storytime has ended! \nLearn to become an independent reader with Miss Hailey as we venture into silly stories\, fun songs\, crafty activities all while we learn together and build skills necessary to start Kindergarten!  \nEngaging\, play-based activities\nFun\, interactive books\nSilly songs and dances\nSocial\, emotional\, and academic development\nKids learn while having fun! \nBest for ages 4 to 6 but everyone is welcome to join the fun!
URL:https://www.sciotolibrary.org/event/trick-or-treat-bookworms-preschool-storytime
LOCATION:Portsmouth Public Library\, 1220 Gallia Street\, Portsmouth\, OH\, 45662\, United States
CATEGORIES:Childrens Programs
ATTACH;FMTTYPE=image/png:https://www.sciotolibrary.org/v4/wp-content/uploads/2025/08/FALL-FLYERS-2025-1-10.png
GEO:38.7346;-82.9887
X-APPLE-STRUCTURED-LOCATION;VALUE=URI;X-ADDRESS=Portsmouth Public Library 1220 Gallia Street Portsmouth OH 45662 United States;X-APPLE-RADIUS=500;X-TITLE=1220 Gallia Street:geo:-82.9887,38.7346
END:VEVENT
BEGIN:VEVENT
DTSTART;TZID=America/New_York:20251028T110000
DTEND;TZID=America/New_York:20251028T120000
DTSTAMP:20260425T095926
CREATED:20250814T125915Z
LAST-MODIFIED:20250814T125932Z
UID:10003662-1761649200-1761652800@www.sciotolibrary.org
SUMMARY:Toddler Time
DESCRIPTION:It’s never too early to begin a child’s reading journey! Toddlers are welcome to join us at the Lucasville Library for Toddler Time. Sessions are on Tuesdays at 11am and will run from September 2nd to November 8th. Come and enjoy stories\, songs\, and playtime. For more information call 740-259-6119.
URL:https://www.sciotolibrary.org/event/toddler-time-18
LOCATION:Lucasville Library\, 103 Lucasville-Minford Rd\, Lucasville\, OH\, 45648\, United States
CATEGORIES:Childrens Programs
ATTACH;FMTTYPE=image/jpeg:https://www.sciotolibrary.org/v4/wp-content/uploads/2025/08/childrens-fall-toddler-time-flyer-2025-15.jpeg
GEO:38.8764486;-82.9652131
X-APPLE-STRUCTURED-LOCATION;VALUE=URI;X-ADDRESS=Lucasville Library 103 Lucasville-Minford Rd Lucasville OH 45648 United States;X-APPLE-RADIUS=500;X-TITLE=103 Lucasville-Minford Rd:geo:-82.9652131,38.8764486
END:VEVENT
BEGIN:VEVENT
DTSTART;TZID=America/New_York:20251027T173000
DTEND;TZID=America/New_York:20251027T193000
DTSTAMP:20260425T095926
CREATED:20250916T173916Z
LAST-MODIFIED:20250916T194714Z
UID:10003736-1761586200-1761593400@www.sciotolibrary.org
SUMMARY:Dungeons and Dragons – One Shot
DESCRIPTION:Go on epic adventures and battle deadly foes in the 5th edition of this popular role-playing game. All levels of experience and skill are welcome! Join the fun from 5:30 – 7:30pm in the Meeting Room. Ages 18+
URL:https://www.sciotolibrary.org/event/dungeons-and-dragons-one-shot-2
LOCATION:Portsmouth Public Library\, 1220 Gallia Street\, Portsmouth\, OH\, 45662\, United States
CATEGORIES:Adult Programs
ATTACH;FMTTYPE=image/jpeg:https://www.sciotolibrary.org/v4/wp-content/uploads/2025/09/dd-4-1.jpg
GEO:38.7346;-82.9887
X-APPLE-STRUCTURED-LOCATION;VALUE=URI;X-ADDRESS=Portsmouth Public Library 1220 Gallia Street Portsmouth OH 45662 United States;X-APPLE-RADIUS=500;X-TITLE=1220 Gallia Street:geo:-82.9887,38.7346
END:VEVENT
BEGIN:VEVENT
DTSTART;TZID=America/New_York:20251027T160000
DTEND;TZID=America/New_York:20251027T170000
DTSTAMP:20260425T095926
CREATED:20250814T132705Z
LAST-MODIFIED:20250911T184146Z
UID:10003669-1761580800-1761584400@www.sciotolibrary.org
SUMMARY:Teens – Jack-O-Lantern Cork Pumpkins
DESCRIPTION:Teens are welcome to join us at the Lucasville library on Monday\, October 27th at 4pm for a Jack-o-lantern Cork Pumpkin craft. We will be gluing corks together in a pumpkin shape\, adding paint\, and using markers to create the face during this fun Halloween activity! For more information\, call 740-259-6119.
URL:https://www.sciotolibrary.org/event/teens-jack-o-lantern-cork-pumpkins
LOCATION:Lucasville Library\, 103 Lucasville-Minford Rd\, Lucasville\, OH\, 45648\, United States
CATEGORIES:Teen Programs
ATTACH;FMTTYPE=image/jpeg:https://www.sciotolibrary.org/v4/wp-content/uploads/2025/08/Teens-Oct-25-flyer.jpeg
GEO:38.8764486;-82.9652131
X-APPLE-STRUCTURED-LOCATION;VALUE=URI;X-ADDRESS=Lucasville Library 103 Lucasville-Minford Rd Lucasville OH 45648 United States;X-APPLE-RADIUS=500;X-TITLE=103 Lucasville-Minford Rd:geo:-82.9652131,38.8764486
END:VEVENT
BEGIN:VEVENT
DTSTART;TZID=America/New_York:20251027T143000
DTEND;TZID=America/New_York:20251027T160000
DTSTAMP:20260425T095926
CREATED:20250917T194447Z
LAST-MODIFIED:20250917T194447Z
UID:10003768-1761575400-1761580800@www.sciotolibrary.org
SUMMARY:Dungeons & Dragons Teen Campaign
DESCRIPTION:Go on epic adventures and battle deadly foes in the 5th edition of this popular role-playing game. All levels of experience and skill are welcome! 2:30pm in the Meeting Room.
URL:https://www.sciotolibrary.org/event/dungeons-dragons-teen-campaign-11
LOCATION:Portsmouth Public Library\, 1220 Gallia Street\, Portsmouth\, OH\, 45662\, United States
CATEGORIES:Teen Programs
ATTACH;FMTTYPE=image/jpeg:https://www.sciotolibrary.org/v4/wp-content/uploads/2025/09/DD3.jpg
GEO:38.7346;-82.9887
X-APPLE-STRUCTURED-LOCATION;VALUE=URI;X-ADDRESS=Portsmouth Public Library 1220 Gallia Street Portsmouth OH 45662 United States;X-APPLE-RADIUS=500;X-TITLE=1220 Gallia Street:geo:-82.9887,38.7346
END:VEVENT
BEGIN:VEVENT
DTSTART;TZID=America/New_York:20251025T140000
DTEND;TZID=America/New_York:20251025T160000
DTSTAMP:20260425T095926
CREATED:20250916T175230Z
LAST-MODIFIED:20250916T193705Z
UID:10003738-1761400800-1761408000@www.sciotolibrary.org
SUMMARY:Crafty Artists Group – Fall Book Vase
DESCRIPTION:Join us in the meeting room to learn how to create your own recycled Fall book vase just in time for the  Thanksgiving holiday season. \nTHIS CRAFT IS FOR AGES 18+ AND\nREGISTRATION IS REQUIRED.
URL:https://www.sciotolibrary.org/event/crafty-artists-group-7
LOCATION:Portsmouth Public Library\, 1220 Gallia Street\, Portsmouth\, OH\, 45662\, United States
CATEGORIES:Adult Programs
ATTACH;FMTTYPE=image/png:https://www.sciotolibrary.org/v4/wp-content/uploads/2025/09/2025-Crafty-Artists-Flyers-1-1.png
GEO:38.7346;-82.9887
X-APPLE-STRUCTURED-LOCATION;VALUE=URI;X-ADDRESS=Portsmouth Public Library 1220 Gallia Street Portsmouth OH 45662 United States;X-APPLE-RADIUS=500;X-TITLE=1220 Gallia Street:geo:-82.9887,38.7346
END:VEVENT
BEGIN:VEVENT
DTSTART;TZID=America/New_York:20251025T100000
DTEND;TZID=America/New_York:20251025T120000
DTSTAMP:20260425T095926
CREATED:20250807T183957Z
LAST-MODIFIED:20250807T184021Z
UID:10003525-1761386400-1761393600@www.sciotolibrary.org
SUMMARY:Crawlers & Toddlers Library Playgroup
DESCRIPTION:LET’S PLAY AND LEARN!\nOpen play & activity space will be provided for new friendships to flourish\, brain building fun\, and socialization to happen (for parents too!) \nFor ages 0 to 4\nEvery 4th Saturday\, monthly from 10am-12pm
URL:https://www.sciotolibrary.org/event/crawlers-toddlers-library-playgroup-2
LOCATION:Portsmouth Public Library\, 1220 Gallia Street\, Portsmouth\, OH\, 45662\, United States
CATEGORIES:Childrens Programs
ATTACH;FMTTYPE=image/png:https://www.sciotolibrary.org/v4/wp-content/uploads/2025/08/FALL-FLYERS-2025-4.png
GEO:38.7346;-82.9887
X-APPLE-STRUCTURED-LOCATION;VALUE=URI;X-ADDRESS=Portsmouth Public Library 1220 Gallia Street Portsmouth OH 45662 United States;X-APPLE-RADIUS=500;X-TITLE=1220 Gallia Street:geo:-82.9887,38.7346
END:VEVENT
END:VCALENDAR