BEGIN:VCALENDAR
VERSION:2.0
PRODID:-//Scioto County Public Library - ECPv6.10.0//NONSGML v1.0//EN
CALSCALE:GREGORIAN
METHOD:PUBLISH
X-ORIGINAL-URL:https://www.sciotolibrary.org
X-WR-CALDESC:Events for Scioto County Public Library
REFRESH-INTERVAL;VALUE=DURATION:PT1H
X-Robots-Tag:noindex
X-PUBLISHED-TTL:PT1H
BEGIN:VTIMEZONE
TZID:America/New_York
BEGIN:DAYLIGHT
TZOFFSETFROM:-0500
TZOFFSETTO:-0400
TZNAME:EDT
DTSTART:20250309T070000
END:DAYLIGHT
BEGIN:STANDARD
TZOFFSETFROM:-0400
TZOFFSETTO:-0500
TZNAME:EST
DTSTART:20251102T060000
END:STANDARD
BEGIN:DAYLIGHT
TZOFFSETFROM:-0500
TZOFFSETTO:-0400
TZNAME:EDT
DTSTART:20260308T070000
END:DAYLIGHT
BEGIN:STANDARD
TZOFFSETFROM:-0400
TZOFFSETTO:-0500
TZNAME:EST
DTSTART:20261101T060000
END:STANDARD
END:VTIMEZONE
BEGIN:VEVENT
DTSTART;TZID=America/New_York:20260421T160000
DTEND;TZID=America/New_York:20260421T170000
DTSTAMP:20260421T194519
CREATED:20251203T212433Z
LAST-MODIFIED:20251203T212433Z
UID:10004080-1776787200-1776790800@www.sciotolibrary.org
SUMMARY:Q-Tip Flowers
DESCRIPTION:Create your own blooming masterpiece! You will use a Styrofoam ball as your base and decorate it with colorful “flowers” made from Q-Tips dipped in food coloring. Make a cheerful decoration that never wilts! This program will be held at the main library location on Tuesday\, April 21 at 4 pm in the Copley meeting room. Ages teen to adult. Please call 740-354-5304 to register.
URL:https://www.sciotolibrary.org/event/q-tip-flowers
LOCATION:Portsmouth Public Library\, 1220 Gallia Street\, Portsmouth\, OH\, 45662\, United States
CATEGORIES:Adult Programs,Teen Programs
ATTACH;FMTTYPE=image/png:https://www.sciotolibrary.org/v4/wp-content/uploads/2025/12/Q-Tip-Flower.png
GEO:38.7346;-82.9887
X-APPLE-STRUCTURED-LOCATION;VALUE=URI;X-ADDRESS=Portsmouth Public Library 1220 Gallia Street Portsmouth OH 45662 United States;X-APPLE-RADIUS=500;X-TITLE=1220 Gallia Street:geo:-82.9887,38.7346
END:VEVENT
BEGIN:VEVENT
DTSTART;TZID=America/New_York:20260409T160000
DTEND;TZID=America/New_York:20260409T170000
DTSTAMP:20260421T194519
CREATED:20251125T151227Z
LAST-MODIFIED:20251125T151227Z
UID:10003984-1775750400-1775754000@www.sciotolibrary.org
SUMMARY:Spring Time Tile Painting
DESCRIPTION:Showcase your creative skills in this super fun painting craft! Spring is near and this tile\npainting craft will get you into the springtime spirit. All ages. Main library location.\nPlease call 740-354-5304 to register.
URL:https://www.sciotolibrary.org/event/spring-time-tile-painting
LOCATION:Portsmouth Public Library\, 1220 Gallia Street\, Portsmouth\, OH\, 45662\, United States
CATEGORIES:Adult Programs,Tween Programs
ATTACH;FMTTYPE=image/jpeg:https://www.sciotolibrary.org/v4/wp-content/uploads/2025/11/149566758_157876059478280_4747970684651719995_n.jpg
GEO:38.7346;-82.9887
X-APPLE-STRUCTURED-LOCATION;VALUE=URI;X-ADDRESS=Portsmouth Public Library 1220 Gallia Street Portsmouth OH 45662 United States;X-APPLE-RADIUS=500;X-TITLE=1220 Gallia Street:geo:-82.9887,38.7346
END:VEVENT
BEGIN:VEVENT
DTSTART;TZID=America/New_York:20260312T160000
DTEND;TZID=America/New_York:20260312T170000
DTSTAMP:20260421T194519
CREATED:20251125T150959Z
LAST-MODIFIED:20251125T150959Z
UID:10003983-1773331200-1773334800@www.sciotolibrary.org
SUMMARY:Soda Bottle Cherry Blossom
DESCRIPTION:Cherry Blossom season is upon us! Join Local History in making your own Cherry\nBlossom tree with a soda bottle. A fun and easy craft for everyone. All ages. Main library\nlocation. Please call 740-354-5304 to register.
URL:https://www.sciotolibrary.org/event/soda-bottle-cherry-blossom
LOCATION:Portsmouth Public Library\, 1220 Gallia Street\, Portsmouth\, OH\, 45662\, United States
CATEGORIES:Adult Programs,Tween Programs
ATTACH;FMTTYPE=image/jpeg:https://www.sciotolibrary.org/v4/wp-content/uploads/2025/11/cherry-blossom-art-soda-bottle-Alphamom-RachelMeeks-1.jpg
GEO:38.7346;-82.9887
X-APPLE-STRUCTURED-LOCATION;VALUE=URI;X-ADDRESS=Portsmouth Public Library 1220 Gallia Street Portsmouth OH 45662 United States;X-APPLE-RADIUS=500;X-TITLE=1220 Gallia Street:geo:-82.9887,38.7346
END:VEVENT
BEGIN:VEVENT
DTSTART;TZID=America/New_York:20260303T160000
DTEND;TZID=America/New_York:20260303T170000
DTSTAMP:20260421T194519
CREATED:20251203T204005Z
LAST-MODIFIED:20251203T204005Z
UID:10004079-1772553600-1772557200@www.sciotolibrary.org
SUMMARY:Leprechaun Clothespin
DESCRIPTION:Turn an ordinary wooden clothespin into a lucky little leprechaun! You will decorate your clothespin to give it a green suit\, a cheerful face\, and a tiny hat worthy of St. Patrick’s Day! This program will be held at the main library location on Tuesday\, March 3 at 4 pm in the Copley meeting room. Ages 8 to adult. Please call 740-354-5304 to register.
URL:https://www.sciotolibrary.org/event/leprechaun-clothespin
LOCATION:Portsmouth Public Library\, 1220 Gallia Street\, Portsmouth\, OH\, 45662\, United States
CATEGORIES:Adult Programs,Teen Programs,Tween Programs
ATTACH;FMTTYPE=image/png:https://www.sciotolibrary.org/v4/wp-content/uploads/2025/12/Leprechaun-Clothespin-2.png
GEO:38.7346;-82.9887
X-APPLE-STRUCTURED-LOCATION;VALUE=URI;X-ADDRESS=Portsmouth Public Library 1220 Gallia Street Portsmouth OH 45662 United States;X-APPLE-RADIUS=500;X-TITLE=1220 Gallia Street:geo:-82.9887,38.7346
END:VEVENT
BEGIN:VEVENT
DTSTART;TZID=America/New_York:20260210T160000
DTEND;TZID=America/New_York:20260210T170000
DTSTAMP:20260421T194519
CREATED:20251210T183542Z
LAST-MODIFIED:20251210T183847Z
UID:10004103-1770739200-1770742800@www.sciotolibrary.org
SUMMARY:Valentine Heart Garland
DESCRIPTION:A perfect decoration to make for Valentine’s Day\, or if you’re not into the holiday\, a nice addition to your home decor. This craft would also make a nice gift for someone special. The class will be held on Tuesday\, February 10 @ 4 p.m. in the Copley Room at the main location. Please call 740-354-5304 to register. ages 8 to adult
URL:https://www.sciotolibrary.org/event/valentine-heart-garland
LOCATION:Portsmouth Public Library\, 1220 Gallia Street\, Portsmouth\, OH\, 45662\, United States
CATEGORIES:Adult Programs,Tween Programs
ATTACH;FMTTYPE=image/jpeg:https://www.sciotolibrary.org/v4/wp-content/uploads/2025/12/hearts.jpg
GEO:38.7346;-82.9887
X-APPLE-STRUCTURED-LOCATION;VALUE=URI;X-ADDRESS=Portsmouth Public Library 1220 Gallia Street Portsmouth OH 45662 United States;X-APPLE-RADIUS=500;X-TITLE=1220 Gallia Street:geo:-82.9887,38.7346
END:VEVENT
BEGIN:VEVENT
DTSTART;TZID=America/New_York:20260205T160000
DTEND;TZID=America/New_York:20260205T170000
DTSTAMP:20260421T194519
CREATED:20251125T150648Z
LAST-MODIFIED:20251125T150648Z
UID:10003982-1770307200-1770310800@www.sciotolibrary.org
SUMMARY:Clay Snowflakes
DESCRIPTION:Get into the snowy spirit and paint your own snowflake! You can add sparkle to keep it a\ntraditional snowflake or paint it to whatever your heart’s desire. All ages. Main library\nlocation. Please call 740-354-5304 to register.
URL:https://www.sciotolibrary.org/event/clay-snowflakes
LOCATION:Portsmouth Public Library\, 1220 Gallia Street\, Portsmouth\, OH\, 45662\, United States
CATEGORIES:Adult Programs,Tween Programs
ATTACH;FMTTYPE=image/jpeg:https://www.sciotolibrary.org/v4/wp-content/uploads/2025/11/DIY-clay-ornaments--scaled.jpg
GEO:38.7346;-82.9887
X-APPLE-STRUCTURED-LOCATION;VALUE=URI;X-ADDRESS=Portsmouth Public Library 1220 Gallia Street Portsmouth OH 45662 United States;X-APPLE-RADIUS=500;X-TITLE=1220 Gallia Street:geo:-82.9887,38.7346
END:VEVENT
BEGIN:VEVENT
DTSTART;TZID=America/New_York:20260203T160000
DTEND;TZID=America/New_York:20260203T170000
DTSTAMP:20260421T194519
CREATED:20251204T171415Z
LAST-MODIFIED:20251204T171415Z
UID:10004081-1770134400-1770138000@www.sciotolibrary.org
SUMMARY:Yarn Love Bugs
DESCRIPTION:Create your own little yarn love bugs with this cute and easy Valentine’s Day craft! This program will be held at the main library location on Tuesday\, February 3 at 4 pm in the Copley meeting room. Ages tween to adult. Please call 740-354-5304 to register.
URL:https://www.sciotolibrary.org/event/yarn-love-bugs
LOCATION:Portsmouth Public Library\, 1220 Gallia Street\, Portsmouth\, OH\, 45662\, United States
CATEGORIES:Adult Programs,Teen Programs,Tween Programs
ATTACH;FMTTYPE=image/png:https://www.sciotolibrary.org/v4/wp-content/uploads/2025/12/Red-White-and-Pink-Yarn.png
GEO:38.7346;-82.9887
X-APPLE-STRUCTURED-LOCATION;VALUE=URI;X-ADDRESS=Portsmouth Public Library 1220 Gallia Street Portsmouth OH 45662 United States;X-APPLE-RADIUS=500;X-TITLE=1220 Gallia Street:geo:-82.9887,38.7346
END:VEVENT
BEGIN:VEVENT
DTSTART;TZID=America/New_York:20260120T160000
DTEND;TZID=America/New_York:20260120T170000
DTSTAMP:20260421T194519
CREATED:20250813T201938Z
LAST-MODIFIED:20250813T201938Z
UID:10003653-1768924800-1768928400@www.sciotolibrary.org
SUMMARY:Penguin Pencil Cup
DESCRIPTION:Transform a tin can into an adorable penguin pencil holder with this fun and easy craft! Whether you’re organizing supplies or adding a winter-themed touch to your space\, this penguin will waddle its way into your heart! This program will be held at the main library location on Tuesday\, January 20 at 4 pm in the Copley meeting room. Ages tween to adult. Please call 740-354-5304 to register.
URL:https://www.sciotolibrary.org/event/penguin-pencil-cup
LOCATION:Portsmouth Public Library\, 1220 Gallia Street\, Portsmouth\, OH\, 45662\, United States
CATEGORIES:Adult Programs,Teen Programs,Tween Programs
ATTACH;FMTTYPE=image/png:https://www.sciotolibrary.org/v4/wp-content/uploads/2025/08/Penguin-Pencil-Cup.png
GEO:38.7346;-82.9887
X-APPLE-STRUCTURED-LOCATION;VALUE=URI;X-ADDRESS=Portsmouth Public Library 1220 Gallia Street Portsmouth OH 45662 United States;X-APPLE-RADIUS=500;X-TITLE=1220 Gallia Street:geo:-82.9887,38.7346
END:VEVENT
BEGIN:VEVENT
DTSTART;TZID=America/New_York:20260108T160000
DTEND;TZID=America/New_York:20260108T170000
DTSTAMP:20260421T194519
CREATED:20251125T150429Z
LAST-MODIFIED:20251125T150429Z
UID:10003981-1767888000-1767891600@www.sciotolibrary.org
SUMMARY:DIY Snowmen
DESCRIPTION:An easy craft for the winter time! These snowmen are made of terracotta planters painted\nwhite\, a round piece painted white for the head. Yarn and ribbon will be given at the\nprogram. All ages. Main library location. Please call 740-354-5304 to register. \n(Image is not exact)
URL:https://www.sciotolibrary.org/event/diy-snowmen
LOCATION:Portsmouth Public Library\, 1220 Gallia Street\, Portsmouth\, OH\, 45662\, United States
CATEGORIES:Adult Programs,Tween Programs
ATTACH;FMTTYPE=image/jpeg:https://www.sciotolibrary.org/v4/wp-content/uploads/2025/11/IMG_7373-768x1024-1.jpg
GEO:38.7346;-82.9887
X-APPLE-STRUCTURED-LOCATION;VALUE=URI;X-ADDRESS=Portsmouth Public Library 1220 Gallia Street Portsmouth OH 45662 United States;X-APPLE-RADIUS=500;X-TITLE=1220 Gallia Street:geo:-82.9887,38.7346
END:VEVENT
BEGIN:VEVENT
DTSTART;TZID=America/New_York:20251216T160000
DTEND;TZID=America/New_York:20251216T170000
DTSTAMP:20260421T194519
CREATED:20250813T195901Z
LAST-MODIFIED:20250813T195901Z
UID:10003652-1765900800-1765904400@www.sciotolibrary.org
SUMMARY:Pipe Cleaner Christmas Tree
DESCRIPTION:Create a festive Christmas tree using pipe cleaners. It makes for a great decoration or gift. This program will be held at the main library location on Tuesday\, December 16 at 4 pm in the Copley meeting room. Ages tween to adult. Please call 740-354-5304 to register.
URL:https://www.sciotolibrary.org/event/pipe-cleaner-christmas-tree
LOCATION:Portsmouth Public Library\, 1220 Gallia Street\, Portsmouth\, OH\, 45662\, United States
CATEGORIES:Adult Programs,Teen Programs,Tween Programs
ATTACH;FMTTYPE=image/png:https://www.sciotolibrary.org/v4/wp-content/uploads/2025/08/Pipe-Cleaner-Christmas-Tree.png
GEO:38.7346;-82.9887
X-APPLE-STRUCTURED-LOCATION;VALUE=URI;X-ADDRESS=Portsmouth Public Library 1220 Gallia Street Portsmouth OH 45662 United States;X-APPLE-RADIUS=500;X-TITLE=1220 Gallia Street:geo:-82.9887,38.7346
END:VEVENT
BEGIN:VEVENT
DTSTART;TZID=America/New_York:20251202T160000
DTEND;TZID=America/New_York:20251202T170000
DTSTAMP:20260421T194519
CREATED:20250820T151404Z
LAST-MODIFIED:20250820T161306Z
UID:10003692-1764691200-1764694800@www.sciotolibrary.org
SUMMARY:Holiday Magnets
DESCRIPTION:Have fun painting two holiday magnets. Each participant registered will create a 3-piece penguin and a Santa that can be assembled on a metal surface such as a refrigerator. The event will be held in the Copley Room at the main library location on Tuesday\, December 2 at 4 p.m. Please call (740) 354-5304 or visit Local History to register.Family craft
URL:https://www.sciotolibrary.org/event/holiday-magnets
LOCATION:Portsmouth Public Library\, 1220 Gallia Street\, Portsmouth\, OH\, 45662\, United States
CATEGORIES:Adult Programs
ATTACH;FMTTYPE=image/jpeg:https://www.sciotolibrary.org/v4/wp-content/uploads/2025/08/craft.jpg
GEO:38.7346;-82.9887
X-APPLE-STRUCTURED-LOCATION;VALUE=URI;X-ADDRESS=Portsmouth Public Library 1220 Gallia Street Portsmouth OH 45662 United States;X-APPLE-RADIUS=500;X-TITLE=1220 Gallia Street:geo:-82.9887,38.7346
END:VEVENT
BEGIN:VEVENT
DTSTART;TZID=America/New_York:20251125T160000
DTEND;TZID=America/New_York:20251125T180000
DTSTAMP:20260421T194519
CREATED:20250820T150614Z
LAST-MODIFIED:20250820T161216Z
UID:10003691-1764086400-1764093600@www.sciotolibrary.org
SUMMARY:Puzzle Me This!
DESCRIPTION:In observing “Nov 23-29 as Game & Puzzle Week”\, Local History presents “Puzzle Me This!” Puzzle Race. Patrons sign up and will be placed in groups of four to five and teams race against each other to complete the same puzzle to win a prize. First team to complete the most of the puzzle in the 2 hour period is the winning team. The event will be held in the Copley Room at the main location on Tuesday\, November 25 at 4-6 p.m. Teen to adult\n Must REGISTER. Limited space. Call (740) 354-5304.
URL:https://www.sciotolibrary.org/event/puzzle-me-this
LOCATION:Portsmouth Public Library\, 1220 Gallia Street\, Portsmouth\, OH\, 45662\, United States
CATEGORIES:Adult Programs,Teen Programs
ATTACH;FMTTYPE=image/jpeg:https://www.sciotolibrary.org/v4/wp-content/uploads/2025/08/puzzle2.jpg
GEO:38.7346;-82.9887
X-APPLE-STRUCTURED-LOCATION;VALUE=URI;X-ADDRESS=Portsmouth Public Library 1220 Gallia Street Portsmouth OH 45662 United States;X-APPLE-RADIUS=500;X-TITLE=1220 Gallia Street:geo:-82.9887,38.7346
END:VEVENT
BEGIN:VEVENT
DTSTART;TZID=America/New_York:20251118T160000
DTEND;TZID=America/New_York:20251118T170000
DTSTAMP:20260421T194519
CREATED:20250813T195531Z
LAST-MODIFIED:20250813T195531Z
UID:10003651-1763481600-1763485200@www.sciotolibrary.org
SUMMARY:Pinecone Owl
DESCRIPTION:Turn an ordinary pinecone into a wise and whimsical owl! This program will be held at the main library location on Tuesday\, November 18 at 4 pm in the Copley meeting room. Ages tween to adult. Please call 740-354-5304 to register.
URL:https://www.sciotolibrary.org/event/pinecone-owl
LOCATION:Portsmouth Public Library\, 1220 Gallia Street\, Portsmouth\, OH\, 45662\, United States
CATEGORIES:Adult Programs,Teen Programs,Tween Programs
ATTACH;FMTTYPE=image/png:https://www.sciotolibrary.org/v4/wp-content/uploads/2025/08/Pinecone-Owl.png
GEO:38.7346;-82.9887
X-APPLE-STRUCTURED-LOCATION;VALUE=URI;X-ADDRESS=Portsmouth Public Library 1220 Gallia Street Portsmouth OH 45662 United States;X-APPLE-RADIUS=500;X-TITLE=1220 Gallia Street:geo:-82.9887,38.7346
END:VEVENT
BEGIN:VEVENT
DTSTART;TZID=America/New_York:20251021T160000
DTEND;TZID=America/New_York:20251021T170000
DTSTAMP:20260421T194519
CREATED:20250820T144757Z
LAST-MODIFIED:20250820T160938Z
UID:10003690-1761062400-1761066000@www.sciotolibrary.org
SUMMARY:Caring for Your Treasures
DESCRIPTION:In observing National Preservation Month\, we will present information on how to care and archive your family treasures. Participants will learn how to preserve different items and the materials/methods of preservation. The event will be held in the Copley Room at the main location on October 21 at 4 p.m..For any information\, call (740) 354-5304.  Adults..
URL:https://www.sciotolibrary.org/event/caring-for-your-treasures
LOCATION:Portsmouth Public Library\, 1220 Gallia Street\, Portsmouth\, OH\, 45662\, United States
CATEGORIES:Adult Programs
ATTACH;FMTTYPE=image/jpeg:https://www.sciotolibrary.org/v4/wp-content/uploads/2025/08/caring.jpg
GEO:38.7346;-82.9887
X-APPLE-STRUCTURED-LOCATION;VALUE=URI;X-ADDRESS=Portsmouth Public Library 1220 Gallia Street Portsmouth OH 45662 United States;X-APPLE-RADIUS=500;X-TITLE=1220 Gallia Street:geo:-82.9887,38.7346
END:VEVENT
END:VCALENDAR