BEGIN:VCALENDAR
VERSION:2.0
PRODID:-//Scioto County Public Library - ECPv6.10.0//NONSGML v1.0//EN
CALSCALE:GREGORIAN
METHOD:PUBLISH
X-WR-CALNAME:Scioto County Public Library
X-ORIGINAL-URL:https://www.sciotolibrary.org
X-WR-CALDESC:Events for Scioto County Public Library
REFRESH-INTERVAL;VALUE=DURATION:PT1H
X-Robots-Tag:noindex
X-PUBLISHED-TTL:PT1H
BEGIN:VTIMEZONE
TZID:America/New_York
BEGIN:DAYLIGHT
TZOFFSETFROM:-0500
TZOFFSETTO:-0400
TZNAME:EDT
DTSTART:20250309T070000
END:DAYLIGHT
BEGIN:STANDARD
TZOFFSETFROM:-0400
TZOFFSETTO:-0500
TZNAME:EST
DTSTART:20251102T060000
END:STANDARD
END:VTIMEZONE
BEGIN:VEVENT
DTSTART;TZID=America/New_York:20251101T100000
DTEND;TZID=America/New_York:20251101T163000
DTSTAMP:20260419T233211
CREATED:20250731T194334Z
LAST-MODIFIED:20250731T194334Z
UID:10003282-1761991200-1762014600@www.sciotolibrary.org
SUMMARY:Family Game Day
DESCRIPTION:Join in the Game Day Fun at the New Boston Library. We’ll have a wide selection of games to enjoy\, including board games\, card games\, and video games galore!  \nFor more information\, please call 740-456-4412.
URL:https://www.sciotolibrary.org/event/family-game-day-5/2025-11-01
LOCATION:New Boston Library\, 3850 Rhodes Avenue\, New Boston\, OH\, 45662\, United States
CATEGORIES:Adult Programs,Childrens Programs,Teen Programs,Tween Programs
ATTACH;FMTTYPE=image/jpeg:https://www.sciotolibrary.org/v4/wp-content/uploads/2025/07/Family-Game-Day-Banner-scaled.jpg
GEO:38.7505635;-82.9384406
X-APPLE-STRUCTURED-LOCATION;VALUE=URI;X-ADDRESS=New Boston Library 3850 Rhodes Avenue New Boston OH 45662 United States;X-APPLE-RADIUS=500;X-TITLE=3850 Rhodes Avenue:geo:-82.9384406,38.7505635
END:VEVENT
BEGIN:VEVENT
DTSTART;TZID=America/New_York:20251031T163000
DTEND;TZID=America/New_York:20251031T173000
DTSTAMP:20260419T233211
CREATED:20250731T191528Z
LAST-MODIFIED:20250930T161201Z
UID:10003221-1761928200-1761931800@www.sciotolibrary.org
SUMMARY:Family Storytime
DESCRIPTION:Develop your child’s love of reading by joining us at the New Boston Library for our Family Storytimes! Children will have fun learning through stories and developing fine motor skills through creative play.
URL:https://www.sciotolibrary.org/event/family-storytime-7/2025-10-31
LOCATION:New Boston Library\, 3850 Rhodes Avenue\, New Boston\, OH\, 45662\, United States
CATEGORIES:Childrens Programs
ATTACH;FMTTYPE=image/jpeg:https://www.sciotolibrary.org/v4/wp-content/uploads/2025/07/New-Boston-All-Website-Banners-9-scaled.jpg
GEO:38.7505635;-82.9384406
X-APPLE-STRUCTURED-LOCATION;VALUE=URI;X-ADDRESS=New Boston Library 3850 Rhodes Avenue New Boston OH 45662 United States;X-APPLE-RADIUS=500;X-TITLE=3850 Rhodes Avenue:geo:-82.9384406,38.7505635
END:VEVENT
BEGIN:VEVENT
DTSTART;TZID=America/New_York:20251024T163000
DTEND;TZID=America/New_York:20251024T173000
DTSTAMP:20260419T233211
CREATED:20250731T191528Z
LAST-MODIFIED:20250930T161201Z
UID:10003220-1761323400-1761327000@www.sciotolibrary.org
SUMMARY:Family Storytime
DESCRIPTION:Develop your child’s love of reading by joining us at the New Boston Library for our Family Storytimes! Children will have fun learning through stories and developing fine motor skills through creative play.
URL:https://www.sciotolibrary.org/event/family-storytime-7/2025-10-24
LOCATION:New Boston Library\, 3850 Rhodes Avenue\, New Boston\, OH\, 45662\, United States
CATEGORIES:Childrens Programs
ATTACH;FMTTYPE=image/jpeg:https://www.sciotolibrary.org/v4/wp-content/uploads/2025/07/New-Boston-All-Website-Banners-9-scaled.jpg
GEO:38.7505635;-82.9384406
X-APPLE-STRUCTURED-LOCATION;VALUE=URI;X-ADDRESS=New Boston Library 3850 Rhodes Avenue New Boston OH 45662 United States;X-APPLE-RADIUS=500;X-TITLE=3850 Rhodes Avenue:geo:-82.9384406,38.7505635
END:VEVENT
BEGIN:VEVENT
DTSTART;TZID=America/New_York:20251022T163000
DTEND;TZID=America/New_York:20251022T173000
DTSTAMP:20260419T233211
CREATED:20250815T201529Z
LAST-MODIFIED:20250815T201529Z
UID:10003679-1761150600-1761154200@www.sciotolibrary.org
SUMMARY:Pumpkin Painting
DESCRIPTION:Come on in and choose your favorite pumpkin at the library\, and let your creativity shine by coloring or painting it to create your one-of-a-kind masterpiece. \nFor more information\, please call 740-456-4412.
URL:https://www.sciotolibrary.org/event/pumpkin-painting
LOCATION:New Boston Library\, 3850 Rhodes Avenue\, New Boston\, OH\, 45662\, United States
CATEGORIES:Teen Programs
ATTACH;FMTTYPE=image/jpeg:https://www.sciotolibrary.org/v4/wp-content/uploads/2025/08/Teen-Program-October.jpg
GEO:38.7505635;-82.9384406
X-APPLE-STRUCTURED-LOCATION;VALUE=URI;X-ADDRESS=New Boston Library 3850 Rhodes Avenue New Boston OH 45662 United States;X-APPLE-RADIUS=500;X-TITLE=3850 Rhodes Avenue:geo:-82.9384406,38.7505635
END:VEVENT
BEGIN:VEVENT
DTSTART;TZID=America/New_York:20251020T180000
DTEND;TZID=America/New_York:20251020T190000
DTSTAMP:20260419T233211
CREATED:20250815T201141Z
LAST-MODIFIED:20250815T201141Z
UID:10003678-1760983200-1760986800@www.sciotolibrary.org
SUMMARY:Shadow Boxes
DESCRIPTION:Join us at the New Boston library to create Shadow Boxes. Using materials such as moss\, crystals\, artificial butterflies\, and other atmospheric elements\, you’ll create a piece that adds a distinctive touch—be it whimsical or gothic—to your home.  \nTo register\, please call 740-456-4412.
URL:https://www.sciotolibrary.org/event/shadow-boxes
LOCATION:New Boston Library\, 3850 Rhodes Avenue\, New Boston\, OH\, 45662\, United States
CATEGORIES:Adult Programs
ATTACH;FMTTYPE=image/jpeg:https://www.sciotolibrary.org/v4/wp-content/uploads/2025/08/Adult-October.jpg
GEO:38.7505635;-82.9384406
X-APPLE-STRUCTURED-LOCATION;VALUE=URI;X-ADDRESS=New Boston Library 3850 Rhodes Avenue New Boston OH 45662 United States;X-APPLE-RADIUS=500;X-TITLE=3850 Rhodes Avenue:geo:-82.9384406,38.7505635
END:VEVENT
END:VCALENDAR